BEGIN:VCALENDAR
VERSION:2.0
PRODID:-//UKspace - ECPv6.15.20//NONSGML v1.0//EN
CALSCALE:GREGORIAN
METHOD:PUBLISH
X-ORIGINAL-URL:https://www.ukspace.org
X-WR-CALDESC:Events for UKspace
REFRESH-INTERVAL;VALUE=DURATION:PT1H
X-Robots-Tag:noindex
X-PUBLISHED-TTL:PT1H
BEGIN:VTIMEZONE
TZID:Europe/London
BEGIN:DAYLIGHT
TZOFFSETFROM:+0000
TZOFFSETTO:+0100
TZNAME:BST
DTSTART:20250330T010000
END:DAYLIGHT
BEGIN:STANDARD
TZOFFSETFROM:+0100
TZOFFSETTO:+0000
TZNAME:GMT
DTSTART:20251026T010000
END:STANDARD
BEGIN:DAYLIGHT
TZOFFSETFROM:+0000
TZOFFSETTO:+0100
TZNAME:BST
DTSTART:20260329T010000
END:DAYLIGHT
BEGIN:STANDARD
TZOFFSETFROM:+0100
TZOFFSETTO:+0000
TZNAME:GMT
DTSTART:20261025T010000
END:STANDARD
BEGIN:DAYLIGHT
TZOFFSETFROM:+0000
TZOFFSETTO:+0100
TZNAME:BST
DTSTART:20270328T010000
END:DAYLIGHT
BEGIN:STANDARD
TZOFFSETFROM:+0100
TZOFFSETTO:+0000
TZNAME:GMT
DTSTART:20271031T010000
END:STANDARD
END:VTIMEZONE
BEGIN:VEVENT
DTSTART;TZID=Europe/London:20260609T090000
DTEND;TZID=Europe/London:20260609T150000
DTSTAMP:20260418T225737
CREATED:20260209T222422Z
LAST-MODIFIED:20260414T105718Z
UID:21658-1780995600-1781017200@www.ukspace.org
SUMMARY:North East Space Conference 2026
DESCRIPTION:The theme of this year’s conference s theme is all about transformation and emerging opportunities for businesses and individuals to explore the rapidly growing space sector. \nEntitle ‘Pivot into Space; Unlocking New Horizons’\, the programme will highlight how organisations from adjacent industries can diversify\, adapt existing capabilities and pivot into space markets\, alongside sessions focused on skills development and career transitions. It will also provide a platform for established space companies to connect\, collaborate and scale\, strengthening supply chains and accelerating growth across the sector. \nAttendees can expect inspiring panels\, practical workshops and high-value networking designed to spark collaboration\, new partnerships and future-ready business growth. This is more than a conference – it’s a launchpad for innovation\, diversification and economic impact in the North East and beyond.​
URL:https://www.ukspace.org/event/north-east-space-conference-2026/
LOCATION:Radisson Blu Hotel (Durham)\, Frankland Ln\, Durham\, DH1 5TA\, United Kingdom
CATEGORIES:Industry events
END:VEVENT
BEGIN:VEVENT
DTSTART;VALUE=DATE:20260623
DTEND;VALUE=DATE:20260626
DTSTAMP:20260418T225737
CREATED:20260330T105153Z
LAST-MODIFIED:20260330T105239Z
UID:21715-1782172800-1782431999@www.ukspace.org
SUMMARY:DSET 2026
DESCRIPTION:DSET is designed to contribute to the advancement of Defence Simulation\, Education and Training in the Armed Forces & Blue Light Communities. Delegates come from the military\, government\, academia and industry. \nFor the first time\, the 2026 edition of the conference will feature a ‘Space track’. The event will also include professional wargaming\, security and emergency services tracks\, technical workshops and a live training area. \nDSET will take place in Cheltenham.
URL:https://www.ukspace.org/event/dset-2026/
CATEGORIES:Industry events
END:VEVENT
END:VCALENDAR