BEGIN:VCALENDAR
VERSION:2.0
PRODID:-//UKspace - ECPv6.15.20//NONSGML v1.0//EN
CALSCALE:GREGORIAN
METHOD:PUBLISH
X-ORIGINAL-URL:https://www.ukspace.org
X-WR-CALDESC:Events for UKspace
REFRESH-INTERVAL;VALUE=DURATION:PT1H
X-Robots-Tag:noindex
X-PUBLISHED-TTL:PT1H
BEGIN:VTIMEZONE
TZID:Europe/London
BEGIN:DAYLIGHT
TZOFFSETFROM:+0000
TZOFFSETTO:+0100
TZNAME:BST
DTSTART:20240331T010000
END:DAYLIGHT
BEGIN:STANDARD
TZOFFSETFROM:+0100
TZOFFSETTO:+0000
TZNAME:GMT
DTSTART:20241027T010000
END:STANDARD
BEGIN:DAYLIGHT
TZOFFSETFROM:+0000
TZOFFSETTO:+0100
TZNAME:BST
DTSTART:20250330T010000
END:DAYLIGHT
BEGIN:STANDARD
TZOFFSETFROM:+0100
TZOFFSETTO:+0000
TZNAME:GMT
DTSTART:20251026T010000
END:STANDARD
BEGIN:DAYLIGHT
TZOFFSETFROM:+0000
TZOFFSETTO:+0100
TZNAME:BST
DTSTART:20260329T010000
END:DAYLIGHT
BEGIN:STANDARD
TZOFFSETFROM:+0100
TZOFFSETTO:+0000
TZNAME:GMT
DTSTART:20261025T010000
END:STANDARD
END:VTIMEZONE
BEGIN:VEVENT
DTSTART;TZID=Europe/London:20251202T080000
DTEND;TZID=Europe/London:20251202T180000
DTSTAMP:20260419T180435
CREATED:20251024T141513Z
LAST-MODIFIED:20251024T141513Z
UID:21480-1764662400-1764698400@www.ukspace.org
SUMMARY:Defence Space Conference 2025
DESCRIPTION:UK Space Command’s Defence Space Conference is the leading platform for all those who seek to influence and play a role in the development and operation of the UK’s military space capabilities. It provides a domestic focus\, updating cross-government\, MOD and industry partners on the future of defence space following the Strategic Defence Review\, Defence Reform and the Defence Investment Plan. \nUKspace is proud to sponsor the conference\, which will inform how the UK intends to become a competitive space power. \nThe conference programme is led by UK Space Command\, the Ministry of Defence’s lead for space operations\, space workforce and space capability. The key conference partner is the Freeman Air & Space Institute (FASI)\, and other participants include the Ministry of Defence\, Cyber & Specialist Operations Command and National Armaments Director Group\, as well as cross-government and industry partners. \nThemes for this year’s conference \n\nOne space: The future of defence space is cross-government. How does UK Space Command intend to collaborate cross-government to become a competitive space power?\nThe Future Defence Space portfolio: Becoming a competitive space power will require an enhanced space portfolio. What capabilities may make up this portfolio? What procurement and commercial rules need to be in place to enable this?\nUK space power in 2035: The UK aims to become a competitive space power by 2035. What does this look like?\n\nCombining four keynote speeches\, including a ministerial keynote address and three panel sessions\, the programme features speakers and panellists from across the UK space policymaking\, operational\, industry and academic enterprise. \n\nCabinet Office\nCrown Commercial Service\nCyber & Specialist Operations Command\nDefence Equipment & Support\nDepartment of Science\, Innovation and Technology\nFreeman Air & Space Institute\nHM Treasury\nMinistry of Defence\nNational Armaments Director Group\nNational Security Strategic Investment Fund\nRoyal Air Force\nUK Space Agency\nUKspace\n\nIt will feature conference\, exhibition and networking with a reception in the evening. \nVirtual attendees will be able to access the conference via a dedicated link to the livestream.​
URL:https://www.ukspace.org/event/defence-space-conference-2025/
LOCATION:IET London\, 2 Savoy Place\, London \, WC2R 0BL\, United Kingdom
CATEGORIES:Industry events
ATTACH;FMTTYPE=image/jpeg:https://www.ukspace.org/wp-content/uploads/2025/10/Defence-Space-Conf-2025_socmed-graphic.jpg
END:VEVENT
BEGIN:VEVENT
DTSTART;VALUE=DATE:20251203
DTEND;VALUE=DATE:20251205
DTSTAMP:20260419T180435
CREATED:20230817T134354Z
LAST-MODIFIED:20251008T235911Z
UID:19722-1764720000-1764892799@www.ukspace.org
SUMMARY:Space-Comm Expo Scotland 2025
DESCRIPTION:Space-Comm Expo Scotland will take place on 3-4 December 2025 at SEC Glasgow. It will provide a valuable opportunity for the sector to display each area of the supply chain to buyers with active and growing budgets and drive future workforce. With more than 150 space companies currently operating from Scotland\, including renowned global and emerging companies\, it’s a thriving market. \nUKspace is a founding sponsor alongside the UK Space Agency\, ADS Scotland and KTN. \nThis year’s event’s three pillars are: \n\nFuture of European Space – Gain unmatched access to Europe’s space leaders and powerbrokers\nInnovation to Deliver: Scaling Europe’s Space Capability – World number 1 in small satellite production outside California; Home to five launch-ready spaceports; Leading-edge data & deep space tech capabilities\nSatellite Data for Competitive Advance – Access Scotland’s market-leading agriculture\, energy transition and financial services leveraging space data to win their market\n\nAlongside the free Exhibition Pass\, the Premium Pass provides access to more content\, more connections and more value than ever before. This includes keynote speeches\, curated roundtables\, a network reception with whisky tasting\, and more. \nRegister for your tickets to Space-Comm Expo Scotland
URL:https://www.ukspace.org/event/space-comm-expo-scotland-2025/
LOCATION:SEC Glasgow\, Exhibition Way\, Glasgow\, G3 8YW
CATEGORIES:Industry events
END:VEVENT
END:VCALENDAR