BEGIN:VCALENDAR
VERSION:2.0
PRODID:-//UKspace - ECPv6.15.20//NONSGML v1.0//EN
CALSCALE:GREGORIAN
METHOD:PUBLISH
X-ORIGINAL-URL:https://www.ukspace.org
X-WR-CALDESC:Events for UKspace
REFRESH-INTERVAL;VALUE=DURATION:PT1H
X-Robots-Tag:noindex
X-PUBLISHED-TTL:PT1H
BEGIN:VTIMEZONE
TZID:Europe/London
BEGIN:DAYLIGHT
TZOFFSETFROM:+0000
TZOFFSETTO:+0100
TZNAME:BST
DTSTART:20240331T010000
END:DAYLIGHT
BEGIN:STANDARD
TZOFFSETFROM:+0100
TZOFFSETTO:+0000
TZNAME:GMT
DTSTART:20241027T010000
END:STANDARD
BEGIN:DAYLIGHT
TZOFFSETFROM:+0000
TZOFFSETTO:+0100
TZNAME:BST
DTSTART:20250330T010000
END:DAYLIGHT
BEGIN:STANDARD
TZOFFSETFROM:+0100
TZOFFSETTO:+0000
TZNAME:GMT
DTSTART:20251026T010000
END:STANDARD
BEGIN:DAYLIGHT
TZOFFSETFROM:+0000
TZOFFSETTO:+0100
TZNAME:BST
DTSTART:20260329T010000
END:DAYLIGHT
BEGIN:STANDARD
TZOFFSETFROM:+0100
TZOFFSETTO:+0000
TZNAME:GMT
DTSTART:20261025T010000
END:STANDARD
END:VTIMEZONE
BEGIN:VEVENT
DTSTART;TZID=Europe/London:20250206T093000
DTEND;TZID=Europe/London:20250206T140000
DTSTAMP:20260422T113118
CREATED:20250108T100225Z
LAST-MODIFIED:20250108T100225Z
UID:20901-1738834200-1738850400@www.ukspace.org
SUMMARY:ESA 101 (Liverpool)
DESCRIPTION:This is a practical and informative event designed to help businesses that are looking to engage with the European Space Agency (ESA) and the UK Space Agency. \nDelivered in collaboration with the Space Clusters\, this event covers essential topics such as ESA’s industrial policy\, current activity and programmes\, basics of ESA procurement and how to navigate through ESA STAR. \nDon’t miss this chance to connect with industry peers\, hear first-hand experiences from businesses that have successfully collaborated with ESA\, and ask questions to the UK Space Agency\, Space Cluster and ESA Ambassador teams. Secure your spot today and come and spend a fantastic day with us with lunch included. \nFurther information free registration
URL:https://www.ukspace.org/event/esa-101-liverpool/
LOCATION:DoubleTree by Hilton Hotel and Spa Liverpool\, 6 Sir Thomas Street\, Liverpool\, L1 6BR\, United Kingdom
END:VEVENT
BEGIN:VEVENT
DTSTART;TZID=Europe/London:20250219T103000
DTEND;TZID=Europe/London:20250219T120000
DTSTAMP:20260422T113118
CREATED:20250127T120253Z
LAST-MODIFIED:20250127T120321Z
UID:20918-1739961000-1739966400@www.ukspace.org
SUMMARY:Employment Rights Act and the UK Space Sector
DESCRIPTION:This event is only open to UKspace members \nAs the Employment Rights Bill enters its consultation period\, join us for an insightful event as we hear from Mike Clancy\, the General Secretary of the Prospect Trade Union about how the proposals will impact your employees and your business. \nThis in-person event is being organised by UKspace and will be held at the Satellite Applications Catapult on the Harwell Campus. \nRegister for this event
URL:https://www.ukspace.org/event/employment-rights-act-and-the-uk-space-sector/
LOCATION:Satellite Applications Catapult\, Electron Building\, Fermi Avenue\, Harwell Campus\, OX11 0QR\, United Kingdom
CATEGORIES:Industry events
ATTACH;FMTTYPE=image/jpeg:https://www.ukspace.org/wp-content/uploads/2025/01/Employment-Rights-Act-members-briefing_Feb2025.jpg
END:VEVENT
BEGIN:VEVENT
DTSTART;VALUE=DATE:20250225
DTEND;VALUE=DATE:20250228
DTSTAMP:20260422T113118
CREATED:20241021T211552Z
LAST-MODIFIED:20250220T131533Z
UID:20348-1740441600-1740700799@www.ukspace.org
SUMMARY:SPACEtalks
DESCRIPTION:SPACEtalks is a unique event tackling key funding\, innovation and growth topics in the space tech arena. \nThe three-day conference will bring together the brightest minds in the industry and unite visionaries\, government experts and industry professionals to deliver compelling presentations and engage in transformative discussions on space technology and the future of the industry\, addressing the most urgent challenges in both the upstream and downstream sectors.
URL:https://www.ukspace.org/event/spacetalks-2025/
LOCATION:ESA ECSAT\, Harwell Science and Innovation Campus\, Fermi Avenue\, Harwell\, Oxfordshire\, OX11 0FD\, United Kingdom
CATEGORIES:Industry events
ATTACH;FMTTYPE=image/jpeg:https://www.ukspace.org/wp-content/uploads/2024/10/SPACEtalks-5.0-graphic_1200.jpg
END:VEVENT
END:VCALENDAR