BEGIN:VCALENDAR
VERSION:2.0
PRODID:-//UKspace - ECPv6.15.20//NONSGML v1.0//EN
CALSCALE:GREGORIAN
METHOD:PUBLISH
X-WR-CALNAME:UKspace
X-ORIGINAL-URL:https://www.ukspace.org
X-WR-CALDESC:Events for UKspace
REFRESH-INTERVAL;VALUE=DURATION:PT1H
X-Robots-Tag:noindex
X-PUBLISHED-TTL:PT1H
BEGIN:VTIMEZONE
TZID:Europe/London
BEGIN:DAYLIGHT
TZOFFSETFROM:+0000
TZOFFSETTO:+0100
TZNAME:BST
DTSTART:20230326T010000
END:DAYLIGHT
BEGIN:STANDARD
TZOFFSETFROM:+0100
TZOFFSETTO:+0000
TZNAME:GMT
DTSTART:20231029T010000
END:STANDARD
BEGIN:DAYLIGHT
TZOFFSETFROM:+0000
TZOFFSETTO:+0100
TZNAME:BST
DTSTART:20240331T010000
END:DAYLIGHT
BEGIN:STANDARD
TZOFFSETFROM:+0100
TZOFFSETTO:+0000
TZNAME:GMT
DTSTART:20241027T010000
END:STANDARD
BEGIN:DAYLIGHT
TZOFFSETFROM:+0000
TZOFFSETTO:+0100
TZNAME:BST
DTSTART:20250330T010000
END:DAYLIGHT
BEGIN:STANDARD
TZOFFSETFROM:+0100
TZOFFSETTO:+0000
TZNAME:GMT
DTSTART:20251026T010000
END:STANDARD
END:VTIMEZONE
BEGIN:VEVENT
DTSTART;TZID=Europe/London:20240910T083000
DTEND;TZID=Europe/London:20240911T170000
DTSTAMP:20260422T044756
CREATED:20240726T112950Z
LAST-MODIFIED:20240726T112950Z
UID:20636-1725957000-1726074000@www.ukspace.org
SUMMARY:Defence in Space Conference 2024
DESCRIPTION:Defence in Space Conference 2024 (DiSC) is a two-day free international event tackling a diversity of topics from both the industry and the public sector. Topics include MilSat\, Space ISR\, Space Domain Awareness\, Earth Observation\, Geospatial\, Multi-orbits\, PNT\, Satcom\, Space Security & Cyber and Defence Strategies. The conference is organised by and for the Space & Defence industry. \nMore than 60 speakers from industry and the public sector will be addressing delegates through keynote speeches and panel sessions\, covering over over 20 talks covering a broad range of topics. \nView the conference schedule over the two days.
URL:https://www.ukspace.org/event/defence-in-space-conference-2024/
LOCATION:Kings Place Building\, 7th Floor\, 90 York Way\, London\, N1 9AG\, United Kingdom
CATEGORIES:Industry events
ATTACH;FMTTYPE=image/jpeg:https://www.ukspace.org/wp-content/uploads/2024/07/Defence-in-Space-Conference-2024.jpg
END:VEVENT
BEGIN:VEVENT
DTSTART;TZID=Europe/London:20240910T100000
DTEND;TZID=Europe/London:20240910T170000
DTSTAMP:20260422T044756
CREATED:20240726T115717Z
LAST-MODIFIED:20240726T115717Z
UID:20642-1725962400-1725987600@www.ukspace.org
SUMMARY:Engaging with MOD Innovation and Funding
DESCRIPTION:This in-person conference will help attendees to better understand the MOD procurement processes\, as well as other sources of funding and support available for innovation across a wide range of technology fields within Defence and Security. SMEs can also gain insights and advice to assist them in entering the Defence and Security supply chain. \nOne specific field to be addressed is the use of digital technology to enhance Command Capability\, in what is known as “the cognitive domain”. This involves both improving our capability and degrading that of potential aggressors. \nThe event is hosted by Defence and Security Oxford Brookes University (DASOBU)\, a leading research organisation in shaping the human dimension of defence and security capability. \nSenior speakers from MOD Defence Innovation\, DASA\, Dstl\, DE&S\, Oxford Brookes\, one or more front line commands and others will cover the following topics: \n\nHow the MOD promotes and funds innovation and research\nScience and technology priorities and funding options across Defence\nEmerging requirements in information warfare and influence operations\nTechnologies that support improved decision making\, deception and simulation\n\nTickets are limited to the first 100 people who register via the link below.
URL:https://www.ukspace.org/event/engaging-with-mod-innovation-and-funding/
LOCATION:Oxford Brookes University\, Clerici Building\, Gypsy Lane\, Headington\,\, Oxford\, OX3 0BP
CATEGORIES:Industry events
END:VEVENT
BEGIN:VEVENT
DTSTART;TZID=Europe/London:20240918T110000
DTEND;TZID=Europe/London:20240918T123000
DTSTAMP:20260422T044756
CREATED:20240312T142705Z
LAST-MODIFIED:20240312T142705Z
UID:20426-1726657200-1726662600@www.ukspace.org
SUMMARY:Orbit South Central
DESCRIPTION:This monthly networking event connects key players in the UK space industry and provides an opportunity to discover the region’s space-related activities\, whilst discussing the sector on both a local and national level. This is an occasion to meet and share knowledge and skills\, as well as hear the latest news and funding opportunities whilst listening to experts across the sector who share their thoughts and ideas.​​ \nSpeakers for this month to be announced. \nIf you have any questions\, please victoria.may-chamberlain@port.ac.uk.
URL:https://www.ukspace.org/event/orbit-south-central-sept-2024/
LOCATION:University of Surrey\, Arthur C Clarke Building\, Stag Hill\, University Campus\, Guildford\, GU2 7XH\, United Kingdom
CATEGORIES:Industry events
END:VEVENT
BEGIN:VEVENT
DTSTART;VALUE=DATE:20240924
DTEND;VALUE=DATE:20240926
DTSTAMP:20260422T044756
CREATED:20240903T140059Z
LAST-MODIFIED:20240903T152720Z
UID:5188-1727136000-1727308799@www.ukspace.org
SUMMARY:Defence Space Conference 2024
DESCRIPTION:UK Space Command’s Defence Space Conference is the leading platform for all those who seek to influence and play a role in the development and operation of the UK’s military space capabilities. UKspace is proud to be one of the event sponsors. \nDefence Space Conference brings together senior UK military and government officials\, space commanders from international space partners and allies and leaders in disruptive technologies\, including the space SME and technology start-up communities. Defence Space coheres military space strategy and operations with space technology and innovation. \nThe conference programme is led by UK Space Command\, the Ministry of Defence’s lead for space operations\, space workforce and space capability\, in partnership with Defence Equipment & Support (DE&S). Other participants include MOD\, Strategic Command\, the UK Space Agency and DSTL. \nThe two-day conference is the UK’s primary event for sharing strategic plans\, operational capability targets\, and programme delivery milestones for the Space Domain while also facilitating dialogue and deepening UK Space Command’s and UK Defence’s relationships with partners across government\, the space industrial sector\, international partners and academia. Outputs from the conference are intended to help steer discussions and guide strategies for new technologies and capabilities to enhance Space support to operations\, develop the UK’s space workforce\, and bolster UK Defence capability. \nThis year’s themes are: \n\nThe Joint Space\nThe Combined Force\nIntegrated Partners\nSpace Futures\n\nKeynote speakers include: \n\nLuke Pollard MP\, Minister for the Armed Forces (Video Address)\nAir Chief Marshal Sir Rich Knighton\, Chief of the Air Staff\, Royal Air Force\nGeneral Stephen N. Whiting\, Commander\, United States Space Command\nLieutenant General Sir Charlie Stickland\, Chief of Joint Operations Permanent Joint Headquarters\nBrigadier General John L. Dawber\, Deputy Commanding General for Operations\, U.S. Army Space & Missile Defense Command\nMajor General Paul Tedman Commander\, UK Space Command\nAvril Jolliffe\, Director General Industry\, Trade and Economic Security\, MOD\nDr Paul Bate\, Chief Executive Officer\, UK Space Agency\nAir Marshal (Ret’d) Sir Stuart Atha\, Former Deputy Commander Operations\, Royal Air Force\nProfessor Anu Ohja\, Director\, UK Space Agency – International\, ESA\, Education\, Communications and Parliamentary Engagement\n\nFurther information\, including ticket pricing and registration
URL:https://www.ukspace.org/event/defence-space-conference-2024/
LOCATION:IET London\, 2 Savoy Place\, London \, WC2R 0BL\, United Kingdom
CATEGORIES:Industry events
ATTACH;FMTTYPE=image/jpeg:https://www.ukspace.org/wp-content/uploads/2018/04/Defence-Space-Conf-2024_socmed-graphic.jpg
END:VEVENT
BEGIN:VEVENT
DTSTART;TZID=Europe/London:20240926T093000
DTEND;TZID=Europe/London:20240926T170000
DTSTAMP:20260422T044756
CREATED:20240819T034424Z
LAST-MODIFIED:20240819T034424Z
UID:20663-1727343000-1727370000@www.ukspace.org
SUMMARY:Space Skills Summit
DESCRIPTION:This is the UK’s first space skills conference\, organised by Space Skills Alliance and SpaceCareers.uk. It will be hosted by Viasat. \nThe Space Skills Summit will feature a mix of presentations\, discussions and practical workshops on a wide range of skills topics such as: \n\nBetter aligning education and training with employers’ needs\nAttracting people from outside the sector\nRecruiting fairly and effectively\nSupporting student competitions and projects\nTaking on apprentices and graduates\nLearning from other sectors\n\nWho should attend?\nThis conference is for anyone in the space industry involved in recruitment\, training\, retention\, diversity\, outreach and other skills topics. That includes: \n\nEmployers and recruiters\nEducation and training providers\nOutreach providers\nPolicymakers\nLearned societies\nAnyone working on space skills\n\nThis not an event for students or job seekers. (The event organiser has a limited amount of space available\, so it reserves the right to refund your ticket if you do not have an appropriate link to space skills work.) \nEarly bird tickets (£30) are available until the end of August\, before going up to £40: https://www.tickettailor.com/events/spaceskillssummit/1337106
URL:https://www.ukspace.org/event/space-skills-summit/
LOCATION:Viasat\, 50 Finsbury Square\, London\, EC2A 1HD
ATTACH;FMTTYPE=image/jpeg:https://www.ukspace.org/wp-content/uploads/2024/08/Space-Skills-Summit-2024.jpg
END:VEVENT
END:VCALENDAR