BEGIN:VCALENDAR
VERSION:2.0
PRODID:-//UKspace - ECPv6.15.20//NONSGML v1.0//EN
CALSCALE:GREGORIAN
METHOD:PUBLISH
X-WR-CALNAME:UKspace
X-ORIGINAL-URL:https://www.ukspace.org
X-WR-CALDESC:Events for UKspace
REFRESH-INTERVAL;VALUE=DURATION:PT1H
X-Robots-Tag:noindex
X-PUBLISHED-TTL:PT1H
BEGIN:VTIMEZONE
TZID:Europe/London
BEGIN:DAYLIGHT
TZOFFSETFROM:+0000
TZOFFSETTO:+0100
TZNAME:BST
DTSTART:20230326T010000
END:DAYLIGHT
BEGIN:STANDARD
TZOFFSETFROM:+0100
TZOFFSETTO:+0000
TZNAME:GMT
DTSTART:20231029T010000
END:STANDARD
BEGIN:DAYLIGHT
TZOFFSETFROM:+0000
TZOFFSETTO:+0100
TZNAME:BST
DTSTART:20240331T010000
END:DAYLIGHT
BEGIN:STANDARD
TZOFFSETFROM:+0100
TZOFFSETTO:+0000
TZNAME:GMT
DTSTART:20241027T010000
END:STANDARD
BEGIN:DAYLIGHT
TZOFFSETFROM:+0000
TZOFFSETTO:+0100
TZNAME:BST
DTSTART:20250330T010000
END:DAYLIGHT
BEGIN:STANDARD
TZOFFSETFROM:+0100
TZOFFSETTO:+0000
TZNAME:GMT
DTSTART:20251026T010000
END:STANDARD
END:VTIMEZONE
BEGIN:VEVENT
DTSTART;TZID=Europe/London:20240611T130000
DTEND;TZID=Europe/London:20240612T160000
DTSTAMP:20260422T010836
CREATED:20211017T153614Z
LAST-MODIFIED:20240528T160819Z
UID:17849-1718110800-1718208000@www.ukspace.org
SUMMARY:Ignite Space 2024
DESCRIPTION:Ignite Space\, organised by the UK Space Agency\, will take place on 11-12 June 2024 at the Royal Armouries Conference & Events in Leeds. It will be a great business-focused opportunity to engage with new customers\, collaborators and investors within the UK space industry and its supply chain. \nThe event will include keynote speakers\, panel sessions and networking opportunities throughout the day and will cover topics including connecting the UK space ecosystem\, space cluster development\, space business acceleration and space regulation. \nDue to limited capacity\, Ignite Space wants to dedicate its exhibition space to showcasing SMEs from all around the UK. \nDelegate tickets are free of charge. \nFurther event information and registration
URL:https://www.ukspace.org/event/ignite-space-2024/
LOCATION:Royal Armouries\, Leeds\, Armouries Way\, Leeds\, LS10 1NF\, United Kingdom
CATEGORIES:Industry events
ATTACH;FMTTYPE=image/jpeg:https://www.ukspace.org/wp-content/uploads/2021/10/Ignite-Space-logo.jpg
END:VEVENT
BEGIN:VEVENT
DTSTART;TZID=Europe/London:20240626T110000
DTEND;TZID=Europe/London:20240626T123000
DTSTAMP:20260422T010836
CREATED:20240312T141741Z
LAST-MODIFIED:20240312T141741Z
UID:20418-1719399600-1719405000@www.ukspace.org
SUMMARY:Orbit South Coast
DESCRIPTION:This monthly networking event connects key players in the UK space industry and provides an opportunity to discover the region’s space-related activities\, whilst discussing the sector on both a local and national level. This is an occasion to meet and share knowledge and skills\, as well as hear the latest news and funding opportunities whilst listening to experts across the sector who share their thoughts and ideas.​
URL:https://www.ukspace.org/event/orbit-south-coast-june-2024/
LOCATION:Southampton University\, Highfield Campus\, University Rd\, \, Southampton\, SO17 1BJ\, United Kingdom
CATEGORIES:Industry events
ORGANIZER;CN="Space South Central":MAILTO:info@spacesouthcentral.com
END:VEVENT
END:VCALENDAR