BEGIN:VCALENDAR
VERSION:2.0
PRODID:-//UKspace - ECPv6.15.20//NONSGML v1.0//EN
CALSCALE:GREGORIAN
METHOD:PUBLISH
X-WR-CALNAME:UKspace
X-ORIGINAL-URL:https://www.ukspace.org
X-WR-CALDESC:Events for UKspace
REFRESH-INTERVAL;VALUE=DURATION:PT1H
X-Robots-Tag:noindex
X-PUBLISHED-TTL:PT1H
BEGIN:VTIMEZONE
TZID:Europe/London
BEGIN:DAYLIGHT
TZOFFSETFROM:+0000
TZOFFSETTO:+0100
TZNAME:BST
DTSTART:20230326T010000
END:DAYLIGHT
BEGIN:STANDARD
TZOFFSETFROM:+0100
TZOFFSETTO:+0000
TZNAME:GMT
DTSTART:20231029T010000
END:STANDARD
BEGIN:DAYLIGHT
TZOFFSETFROM:+0000
TZOFFSETTO:+0100
TZNAME:BST
DTSTART:20240331T010000
END:DAYLIGHT
BEGIN:STANDARD
TZOFFSETFROM:+0100
TZOFFSETTO:+0000
TZNAME:GMT
DTSTART:20241027T010000
END:STANDARD
BEGIN:DAYLIGHT
TZOFFSETFROM:+0000
TZOFFSETTO:+0100
TZNAME:BST
DTSTART:20250330T010000
END:DAYLIGHT
BEGIN:STANDARD
TZOFFSETFROM:+0100
TZOFFSETTO:+0000
TZNAME:GMT
DTSTART:20251026T010000
END:STANDARD
END:VTIMEZONE
BEGIN:VEVENT
DTSTART;VALUE=DATE:20240508
DTEND;VALUE=DATE:20240510
DTSTAMP:20260418T093225
CREATED:20240312T140833Z
LAST-MODIFIED:20240312T140902Z
UID:20416-1715126400-1715299199@www.ukspace.org
SUMMARY:In-Orbit Servicing and Manufacturing (IOSM) Conference 2024
DESCRIPTION:IOSM 2024 is the first-of-its-kind event bringing together experts from the global In-Orbit Servicing and Manufacturing industry. Held over two days in the purpose-built ESA conference facility in Harwell\, Oxfordshire\, the event will include sessions from industry professionals on UK and international IOSM strategy\, current and planned IOSM applications\, enabling technology and regulation\, skills and investment. \nWith over 50 expert speakers\, including representatives from the UK and US space agencies\, this conference will provide insight into the crucial roles of investment\, education and training\, sustainability\, and risk and regulation for the IOSM industry. It is jointly hosted by the UK Space Agency and Satellite Applications Catapult. \nTogether\, delegates will come together to maximise the benefits of IOSM economically\, environmentally and for the advancement of science. \nAgenda\nDay 1 – representatives of leading space agencies\, companies and government from around the globe will set the scene and provide insight into the current state of play and the future of IOSM. \nDay 2 – the conference will split into three streams: \n\nTechnology\nApplications\nRegulation\, Skills\, and Investment\n\nAttendees are welcomed from business (working in both space-related fields and beyond)\, academics\, students working in fields associated with IOSM\, and representatives from space agencies and governments. \nRegister for this conference
URL:https://www.ukspace.org/event/in-orbit-servicing-and-manufacturing-iosm-conference-2024/
LOCATION:ESA ECSAT\, Harwell Science and Innovation Campus\, Fermi Avenue\, Harwell\, Oxfordshire\, OX11 0FD\, United Kingdom
CATEGORIES:Industry events
END:VEVENT
BEGIN:VEVENT
DTSTART;TZID=Europe/London:20240522T110000
DTEND;TZID=Europe/London:20240522T123000
DTSTAMP:20260418T093225
CREATED:20240312T142504Z
LAST-MODIFIED:20240312T142805Z
UID:20425-1716375600-1716381000@www.ukspace.org
SUMMARY:Orbit South Central
DESCRIPTION:This monthly networking event connects key players in the UK space industry and provides an opportunity to discover the region’s space-related activities\, whilst discussing the sector on both a local and national level. This is an occasion to meet and share knowledge and skills\, as well as hear the latest news and funding opportunities whilst listening to experts across the sector who share their thoughts and ideas.​​ \nSpeakers for this month\, to be announced. \nIf you have any questions\, please victoria.may-chamberlain@port.ac.uk.
URL:https://www.ukspace.org/event/orbit-south-central-may-2024/
LOCATION:University of Surrey\, Arthur C Clarke Building\, Stag Hill\, University Campus\, Guildford\, GU2 7XH\, United Kingdom
CATEGORIES:Industry events
END:VEVENT
END:VCALENDAR