BEGIN:VCALENDAR
VERSION:2.0
PRODID:-//UKspace - ECPv6.15.20//NONSGML v1.0//EN
CALSCALE:GREGORIAN
METHOD:PUBLISH
X-ORIGINAL-URL:https://www.ukspace.org
X-WR-CALDESC:Events for UKspace
REFRESH-INTERVAL;VALUE=DURATION:PT1H
X-Robots-Tag:noindex
X-PUBLISHED-TTL:PT1H
BEGIN:VTIMEZONE
TZID:Europe/London
BEGIN:DAYLIGHT
TZOFFSETFROM:+0000
TZOFFSETTO:+0100
TZNAME:BST
DTSTART:20230326T010000
END:DAYLIGHT
BEGIN:STANDARD
TZOFFSETFROM:+0100
TZOFFSETTO:+0000
TZNAME:GMT
DTSTART:20231029T010000
END:STANDARD
BEGIN:DAYLIGHT
TZOFFSETFROM:+0000
TZOFFSETTO:+0100
TZNAME:BST
DTSTART:20240331T010000
END:DAYLIGHT
BEGIN:STANDARD
TZOFFSETFROM:+0100
TZOFFSETTO:+0000
TZNAME:GMT
DTSTART:20241027T010000
END:STANDARD
BEGIN:DAYLIGHT
TZOFFSETFROM:+0000
TZOFFSETTO:+0100
TZNAME:BST
DTSTART:20250330T010000
END:DAYLIGHT
BEGIN:STANDARD
TZOFFSETFROM:+0100
TZOFFSETTO:+0000
TZNAME:GMT
DTSTART:20251026T010000
END:STANDARD
END:VTIMEZONE
BEGIN:VEVENT
DTSTART;VALUE=DATE:20240212
DTEND;VALUE=DATE:20240217
DTSTAMP:20260421T201448
CREATED:20230725T061053Z
LAST-MODIFIED:20230725T061353Z
UID:19648-1707696000-1708127999@www.ukspace.org
SUMMARY:International Space Convention 2024 (Zoom)
DESCRIPTION:International Space Convention 2024 is a virtual convention for space professionals and enthusiasts\, featuring more than 160 space industry speakers cover over 45 topics. The main themes of this event will be innovation\, sustainability and exploration. \nFor further information and to get your virtual ticket\, visit ​https://www.internationalspaceconvention.com.
URL:https://www.ukspace.org/event/international-space-convention-2024/
CATEGORIES:Industry events
END:VEVENT
BEGIN:VEVENT
DTSTART;VALUE=DATE:20240226
DTEND;VALUE=DATE:20240301
DTSTAMP:20260421T201448
CREATED:20240116T114849Z
LAST-MODIFIED:20240116T114849Z
UID:19996-1708905600-1709251199@www.ukspace.org
SUMMARY:Mobile World Congress 2024
DESCRIPTION:MWC Barcelona is the largest and most influential event for the connectivity ecosystem\, attracting global mobile operators\, device manufacturers\, technology providers\, vendors\, content owners and many more people simply interested in the future of tech. \nAt the 2024 event\, the UK Space Agency will be attending (Hall 7\, Stand 7B83)\, while there will also be a Great Britain & Northern Ireland Pavilion\, supported by the Department for Business & Trade\, at the show.​
URL:https://www.ukspace.org/event/mobile-world-congress-2024/
LOCATION:Fira Gran Via\, Barcelona\, Spain
END:VEVENT
END:VCALENDAR