BEGIN:VCALENDAR
VERSION:2.0
PRODID:-//UKspace - ECPv6.15.20//NONSGML v1.0//EN
CALSCALE:GREGORIAN
METHOD:PUBLISH
X-WR-CALNAME:UKspace
X-ORIGINAL-URL:https://www.ukspace.org
X-WR-CALDESC:Events for UKspace
REFRESH-INTERVAL;VALUE=DURATION:PT1H
X-Robots-Tag:noindex
X-PUBLISHED-TTL:PT1H
BEGIN:VTIMEZONE
TZID:Europe/London
BEGIN:DAYLIGHT
TZOFFSETFROM:+0000
TZOFFSETTO:+0100
TZNAME:BST
DTSTART:20180325T010000
END:DAYLIGHT
BEGIN:STANDARD
TZOFFSETFROM:+0100
TZOFFSETTO:+0000
TZNAME:GMT
DTSTART:20181028T010000
END:STANDARD
BEGIN:DAYLIGHT
TZOFFSETFROM:+0000
TZOFFSETTO:+0100
TZNAME:BST
DTSTART:20190331T010000
END:DAYLIGHT
BEGIN:STANDARD
TZOFFSETFROM:+0100
TZOFFSETTO:+0000
TZNAME:GMT
DTSTART:20191027T010000
END:STANDARD
BEGIN:DAYLIGHT
TZOFFSETFROM:+0000
TZOFFSETTO:+0100
TZNAME:BST
DTSTART:20200329T010000
END:DAYLIGHT
BEGIN:STANDARD
TZOFFSETFROM:+0100
TZOFFSETTO:+0000
TZNAME:GMT
DTSTART:20201025T010000
END:STANDARD
END:VTIMEZONE
BEGIN:VEVENT
DTSTART;TZID=Europe/London:20190521T100000
DTEND;TZID=Europe/London:20190521T133000
DTSTAMP:20260420T030312
CREATED:20190124T192622Z
LAST-MODIFIED:20190124T192622Z
UID:6081-1558432800-1558445400@www.ukspace.org
SUMMARY:Connect Harwell Workshop
DESCRIPTION:Intellectual Property: practical steps for innovative companies\n\n\nIdeas\, inventions and brands are key to the success of any innovative business. However\, companies of all sizes can find it difficult to properly manage the intellectual property they create\, with IP often side-lined or misunderstood.\nIn this interactive workshop global IP experts Marks & Clerk will suggest steps you might take to bring IP into the day-to-day running of your company.\nThe session aims to cover concepts that are relevant to all types of IP\, such as patents\, trade marks and designs\, and will be suited to anyone with responsibility for R&D\, product development\, legal or financial operations\, as well as inventors and entrepreneurs.\nA free networking lunch will be provided\nFurther details and registration]]>
URL:https://www.ukspace.org/event/connect-harwell-workshop-may19/
LOCATION:Satellite Applications Catapult\, Electron Building\, Harwell\, OX11 0QR
CATEGORIES:Industry events
ATTACH;FMTTYPE=:
END:VEVENT
BEGIN:VEVENT
DTSTART;VALUE=DATE:20190521
DTEND;VALUE=DATE:20190523
DTSTAMP:20260420T030312
CREATED:20190424T120457Z
LAST-MODIFIED:20190424T120457Z
UID:14333-1558396800-1558569599@www.ukspace.org
SUMMARY:GEO Business 2019
DESCRIPTION:Free to attend exhibition showcasing 200 of the world’s leading suppliers of geospatial technology and service providers\n\n\n 	\n\nFree to attend seminars focusing on the remarkable impact geospatial technologies and solutions are having on our global environment and look how these solutions can increase productivity and de-risking whilst reducing costs.\n\n\n 	\n\nFree to attend commercial workshops demonstrating the latest products and services first hand\, providing visitors the opportunity to see them in action.\n\n\n\n\n\nThere is also a strategic senior level conference\, as well as social activities including welcoming drinks the night before the show starts\, and the GEO Business dinner on the opening night.\nFurther information and registration]]>
URL:https://www.ukspace.org/event/geo-business-2019/
LOCATION:Business Design Centre\, 52 Upper St\, London\, N1 0QH
CATEGORIES:Industry events
END:VEVENT
BEGIN:VEVENT
DTSTART;VALUE=DATE:20190518
DTEND;VALUE=DATE:20190520
DTSTAMP:20260420T030312
CREATED:20190327T150247Z
LAST-MODIFIED:20190327T150247Z
UID:14325-1558137600-1558310399@www.ukspace.org
SUMMARY:Apollo 10 Anniversary Activities
DESCRIPTION:Manfred “Dutch” von Ehrenfried\n\n\n 	\n\nGerry Griffin\n\n\n 	\n\nSy Liebergot\n\n\n 	\n\nBill Moon\n\n\n\n\n\nCulminating in a screening of “Mission Control: The Unsung Heroes of Apollo” in the Sir Patrick Moore Planetarium\, this really will be one giant leap for mankind.\nThere are also a range of associated celebratory activities taking place throughout the weekend that you can book and attend.]]>
URL:https://www.ukspace.org/event/apollo-10-anniversary-activities/
LOCATION:National Space Centre\, Exploration Drive\, Leicester\, LE4 5NS
CATEGORIES:Industry events
END:VEVENT
BEGIN:VEVENT
DTSTART;TZID=Europe/London:20190516T130000
DTEND;TZID=Europe/London:20190516T140000
DTSTAMP:20260420T030312
CREATED:20190503T111745Z
LAST-MODIFIED:20190503T111745Z
UID:6625-1558011600-1558015200@www.ukspace.org
SUMMARY:WIA-E webinar: Unconscious Bias
DESCRIPTION:Objectives: Explain the concept of unconscious bias; Explore personal experience and experience of others; Investigate how to identify and manage bias in self and others; Provide tips and techniques.\n\n\n 	\n\nOutline content: Concept of bias and impact on behaviour and influencing skills; Identifying and managing bias in self and others; Tips and techniques.\n\n\n 	\n\nQ & A session\n\n\n 	\n\nDelivery: PowerPoint slides\, Interactive elements using voting buttons and chat; Access to downloadable workbook\, PDF tip sheets and unedited recording.\n\n\n\n\n\nThe webinar is offered on two dates:\n\n\n\n 	\n\nMay 16 – 1-2pm (Registration deadline: 6 May 2019)\n\n\n 	\n\nJune 13 – 1-2pm (Registration deadline: 3 June 2019)\n\n\n\n\n\n\n\nTrainers: Clare McNamara and Francine Brooks from Engage to Move Ahead \n\n\n\n\nRegister online\n\n]]>
URL:https://www.ukspace.org/event/wia-e-unconscious-bias-webinar-may19/
CATEGORIES:Industry events
END:VEVENT
BEGIN:VEVENT
DTSTART;TZID=Europe/London:20190515T131500
DTEND;TZID=Europe/London:20190515T160000
DTSTAMP:20260420T030312
CREATED:20190507T200631Z
LAST-MODIFIED:20190507T200631Z
UID:14336-1557926100-1557936000@www.ukspace.org
SUMMARY:Space to Innovate Competition briefing
DESCRIPTION:Further information and registration (Registration closes at 5pm on 13 May 2019.)\n\n\n\n\n\n\n\n\n]]>
URL:https://www.ukspace.org/event/space-to-innovate-briefing/
LOCATION:Satellite Applications Catapult\, Electron Building\, Harwell\, OX11 0QR
CATEGORIES:Industry events
END:VEVENT
BEGIN:VEVENT
DTSTART;TZID=Europe/London:20190514T090000
DTEND;TZID=Europe/London:20190515T170000
DTSTAMP:20260420T030312
CREATED:20190227T212423Z
LAST-MODIFIED:20190227T212423Z
UID:6278-1557824400-1557939600@www.ukspace.org
SUMMARY:RF ADCs and DACs training course
DESCRIPTION:Frequency planning considerations\n\n\n 	\n\nSignal to Quantization noise Ratio\n\n\n 	\n\nSignal to Aperture Jitter Voltage Noise\n\n\n 	\n\nENOB\, Total SNR and EVM\n\n\n 	\n\nADCs and DACs performance for single-carrier vs. OFDM cases\n\n\n 	\n\nThe Flash\, SAR and Pipelined architectures\n\n\n 	\n\nArchitecture of Real-IF and zero-IF transceivers that include ADCs and DACs\n\n\n\n\n\n \nFurther information\, registration and syllabus]]>
URL:https://www.ukspace.org/event/rf-adcs-dacs-training-course/
LOCATION:Trinity Centre\, 24 Cambridge Science Park\, 24 Milton Rd\,\, Milton\, 24 Milton Rd\, Milton\, Cambridge\, CB4 0FN\, United Kingdom
CATEGORIES:Industry events
END:VEVENT
BEGIN:VEVENT
DTSTART;TZID=Europe/London:20190514T090000
DTEND;TZID=Europe/London:20190514T170000
DTSTAMP:20260420T030312
CREATED:20190221T173808Z
LAST-MODIFIED:20190221T173808Z
UID:6248-1557824400-1557853200@www.ukspace.org
SUMMARY:SME Forum event: Working together to grow the UK space market
DESCRIPTION:Meet the Buyer – 1:1 sessions for delegates to meet the procurement team\, providing opportunities for SMEs and potential suppliers to talk about how to become part of the supply chain.\n\n\n 	\n\nTechnology/Education – meet people who are world leaders in their technology areas.\n\n\n 	\n\nBusiness Development – discussing potential Teledyne e2v and SME opportunities.\n\n\n 	\n\nCollaboration with local SME Community – kick-off discussion about creating an SME Hub to benefit from using the test facilities\, resources and product assurance.\n\n\n 	\n\nNetworking coffee and buffet sessions\n\n\n 	\n\nFactory tours\n\n\n\n\n\n\n\nRegister for this event\n\n]]>
URL:https://www.ukspace.org/event/working-together-to-grow-uk-space-market/
LOCATION:Teledyne e2v\, 106 Waterhouse Lane\, Chelmsford\, Essex\, CM1 2QU
CATEGORIES:Industry events,UKspace committee meetings
ATTACH;FMTTYPE=:
END:VEVENT
BEGIN:VEVENT
DTSTART;VALUE=DATE:20190513
DTEND;VALUE=DATE:20190518
DTSTAMP:20260420T030312
CREATED:20190415T100922Z
LAST-MODIFIED:20190415T100922Z
UID:14331-1557705600-1558137599@www.ukspace.org
SUMMARY:UCL Space Week
DESCRIPTION:www.uclspace.com.]]>
URL:https://www.ukspace.org/event/ucl-space-week/
LOCATION:OSS collect their Oxfordshire LEP New Business Award at the 2014 Oxfordshire Business Awards
CATEGORIES:Industry events
END:VEVENT
BEGIN:VEVENT
DTSTART;TZID=Europe/London:20190503T100000
DTEND;TZID=Europe/London:20190503T153000
DTSTAMP:20260420T030312
CREATED:20190326T215640Z
LAST-MODIFIED:20190326T215640Z
UID:6387-1556877600-1556897400@www.ukspace.org
SUMMARY:Dstl SEARCHLIGHT on Radio Frequency\, Software Defined Radio & 5G networks
DESCRIPTION:Register for this event]]>
URL:https://www.ukspace.org/event/dstl-searchlight-on-radio-frequency-software-defined-radio-5g-networks/
LOCATION:Defence Academy\, Cranfield\, United Kingdom
CATEGORIES:Industry events
END:VEVENT
BEGIN:VEVENT
DTSTART;TZID=Europe/London:20190502T090000
DTEND;TZID=Europe/London:20190503T163000
DTSTAMP:20260420T030312
CREATED:20190121T065443Z
LAST-MODIFIED:20190121T065443Z
UID:6064-1556787600-1556901000@www.ukspace.org
SUMMARY:Made for Space: New Manufacturing Opportunities
DESCRIPTION:Why attend?\n\n\n\n\n\n 	\n\nGet an insight into the opportunities for manufacturers in the space sector\n\n\n 	\n\nHear from leading international experts from both the space and manufacturing sectors\n\n\n 	\n\nVisit our all-day exhibition accompanied by refreshments and networking\n\n\n 	\n\nTake a tour of the MTC’s state-of-the-art facilities\n\n\n\n\n\n\n\nKeynote Speakers\n\n\n\n\n\n 	\n\nHow can the UK space sector lead the world?\nGraham Peters\, Chairman\, UK Space\n\n\n 	\n\nWhat does the future hold for space manufacturing in the UK?\nTony Mears\, Technology Roadmapping and Harmonisation Lead\, UK Space Agency\n\n\n 	\n\nThomas Rohr\, Head of Materials & Processes\, ESA\n\n\n 	\n\nAdvanced Manufacturing: An extraordinary technology ecosystem\nJohn Vickers\, Principal Technologist\, Space Technology Mission Directorate\, NASA\n\n\n 	\n\nKey findings from Day 1 Summit\nUK Space Agency\n\n\n\n\n\n\n\nTechnical presentations from experts in the following organisations:\n\n\nESA\, NASA\, Airbus Defence & Space\, Lockheed Martin UK\, MTC\, Cranfield University\, 3TRPD\, Autodesk\, UKAEA\, FAIR-SPACE / SSC\, Innovate UK\, BAE Systems\, Satellite Applications Catapult\, ULC Robotics\, Oxford Space Systems\, Nitropep\, Loughborough University\, Wallwork\, TWI\, The University of Manchester\, Fraunhofer IWS\, Keronite\n\n\nRegistration and further information\n\n\nThis is expected to be a sell-out event so if you are interested in attending Made for Space\, please register now. Early bird tickets are available until 31 March 2019.\nAll UKspace members can use a 25% discount code when registering: ukspace25\nFor further information including details of various conference pass options\, please visit the Made for Space event website.\n ]]>
URL:https://www.ukspace.org/event/made-for-space-new-manufacturing-opportunities/
LOCATION:Manufacturing Technology Centre\, Pilot Way\, Ansty Business Park\, Coventry\, Warwickshire\, CV7 9JU\, United Kingdom
CATEGORIES:Industry events
END:VEVENT
BEGIN:VEVENT
DTSTART;TZID=Europe/London:20190501T080000
DTEND;TZID=Europe/London:20190502T170000
DTSTAMP:20260420T030312
CREATED:20190410T150158Z
LAST-MODIFIED:20190410T150158Z
UID:6501-1556697600-1556816400@www.ukspace.org
SUMMARY:Emerging Technologies for Earth Observation Conference
DESCRIPTION:Niki Legge at RAL Space to register (no charge) and book accommodation and dinner (at cost)\, detailing any special access and dietary requirements. For general enquiries about the programme\, please email Rob Scott.\nFurther information]]>
URL:https://www.ukspace.org/event/emerging-technologies-eo-conf/
LOCATION:BAE-Systems-logo
CATEGORIES:Industry events
ORGANIZER;CN="Rob Scott":MAILTO:rob.scott@stfc.ac.uk
END:VEVENT
BEGIN:VEVENT
DTSTART;TZID=Europe/London:20190426T100000
DTEND;TZID=Europe/London:20190426T170000
DTSTAMP:20260420T030312
CREATED:20190410T145518Z
LAST-MODIFIED:20190410T145518Z
UID:6498-1556272800-1556298000@www.ukspace.org
SUMMARY:Quantum Technologies for Satellite Gravity Measurement
DESCRIPTION:Further information and registration]]>
URL:https://www.ukspace.org/event/quantum-technologies-for-satellite-gravity-measurement/
LOCATION:BAE-Systems-logo
CATEGORIES:Industry events
END:VEVENT
BEGIN:VEVENT
DTSTART;TZID=Europe/London:20190423T173000
DTEND;TZID=Europe/London:20190423T200000
DTSTAMP:20260420T030312
CREATED:20190315T005802Z
LAST-MODIFIED:20190315T005802Z
UID:6348-1556040600-1556049600@www.ukspace.org
SUMMARY:Space Technology
DESCRIPTION:register as places are limited.\nFurther information about this event]]>
URL:https://www.ukspace.org/event/space-technology-april19/
LOCATION:UK Astronomy Technology Centre\, Royal Observatory\, Edinburgh\, EH9 3HJ\, United Kingdom
CATEGORIES:Industry events
END:VEVENT
BEGIN:VEVENT
DTSTART;TZID=Europe/London:20190410T101500
DTEND;TZID=Europe/London:20190410T131000
DTSTAMP:20260420T030312
CREATED:20190327T151723Z
LAST-MODIFIED:20190327T151723Z
UID:14327-1554891300-1554901800@www.ukspace.org
SUMMARY:Sensing for Economic & Production Gains in Agriculture
DESCRIPTION:Full details and registration]]>
URL:https://www.ukspace.org/event/sensing-for-economic-production-gains-in-agriculture/
LOCATION:Harper Adams University\, Newport\, Shropshire\, TF10 8NB
CATEGORIES:Industry events
END:VEVENT
BEGIN:VEVENT
DTSTART;TZID=Europe/London:20190409T170000
DTEND;TZID=Europe/London:20190409T190000
DTSTAMP:20260420T030312
CREATED:20190326T215221Z
LAST-MODIFIED:20190326T215221Z
UID:6385-1554829200-1554836400@www.ukspace.org
SUMMARY:"The Oracle of Colombo" by Peter Marshall
DESCRIPTION:
URL:https://www.ukspace.org/event/the-oracle-of-colombo-by-peter-marshall/
LOCATION:Milbank\, 10 Gresham St\, London\, EC2V 7JD\, United Kingdom
CATEGORIES:Industry events
END:VEVENT
BEGIN:VEVENT
DTSTART;TZID=Europe/London:20190409T090000
DTEND;TZID=Europe/London:20190409T170000
DTSTAMP:20260420T030312
CREATED:20190327T151420Z
LAST-MODIFIED:20190327T151420Z
UID:14326-1554800400-1554829200@www.ukspace.org
SUMMARY:Drones for Farming Conference 2019
DESCRIPTION:
URL:https://www.ukspace.org/event/drones-for-farming-conference-2019/
LOCATION:Harper Adams University\, Newport\, Shropshire\, TF10 8NB
CATEGORIES:Industry events
END:VEVENT
BEGIN:VEVENT
DTSTART;TZID=Europe/London:20190403T130000
DTEND;TZID=Europe/London:20190404T170000
DTSTAMP:20260420T030312
CREATED:20190220T170135Z
LAST-MODIFIED:20190220T170135Z
UID:6233-1554296400-1554397200@www.ukspace.org
SUMMARY:Research in Space – new business cases workshop
DESCRIPTION:Understand enablers and barriers for the transition to a global market for research and applications in space\, during and after operations of ISS\n\n\n 	\n\nIdentify use cases beyond ESA needs\n\n\n 	\n\nShare knowledge about past and present commercialisation approaches\n\n\n 	\n\nBuild a vision and high-level architecture for exploitation of platforms in Low Earth Orbit for research and application by 2038\n\n\n 	\n\nFind concrete opportunities for increasing the engagement of the private sector\n\n\n\n\n\nFurther information\, agenda and registration\n ]]>
URL:https://www.ukspace.org/event/research-in-space-workshop/
LOCATION:ESTEC\, Keplerlaan 1\, 2201 AZ Noordwijk\, Netherlands
CATEGORIES:Industry events
END:VEVENT
BEGIN:VEVENT
DTSTART;TZID=Europe/London:20190327T140000
DTEND;TZID=Europe/London:20190328T160000
DTSTAMP:20260420T030312
CREATED:20181204T125226Z
LAST-MODIFIED:20181204T125226Z
UID:5917-1553695200-1553788800@www.ukspace.org
SUMMARY:Discover The Possibilities: Into the Blue
DESCRIPTION:The ocean economy context\n\n\n 	\n\nUsing the sea for resources (food\, energy)\n\n\n 	\n\nUsing the sea for trade and travel (global trade\, human movement\, connected ports and connected shipping\, illegal shipping)\n\n\n 	\n\nSaving the sea (pollution\, marine biodiversity\, warming)\n\n\n 	\n\nProtecting us from the sea (sea level rise\, coastal observation and coastal communities economies)\n\n\n 	\n\nDeep sea (sea blindness\, exploration for resources)\n\n\n\n\n\nOrganised on behalf of the North East Satellite Applications Centre of Excellence\, this year’s event is the fifth in a series of annual gatherings which focus on some of the key challenges facing the sector. Join us to identify and discuss the real business opportunities from a range of key service providers and end users.\nSee the conference agenda\nRegister for the conference]]>
URL:https://www.ukspace.org/event/discover-the-possibilities-into-the-blue/
LOCATION:National Glass Centre\, Liberty Way\, Sunderland\, SR6 0GL\, United Kingdom
CATEGORIES:Industry events
ORGANIZER;CN="Ken Wallace":MAILTO:Ken@shesgottit.com
END:VEVENT
BEGIN:VEVENT
DTSTART;TZID=Europe/London:20190321T093000
DTEND;TZID=Europe/London:20190322T163000
DTSTAMP:20260420T030312
CREATED:20190220T181612Z
LAST-MODIFIED:20190220T181612Z
UID:6244-1553160600-1553272200@www.ukspace.org
SUMMARY:GNSS Systems and Technology free training event for UK industry and SMEs
DESCRIPTION:Register for this free event\n ]]>
URL:https://www.ukspace.org/event/gnss-systems-and-technology-training-event/
LOCATION:University of Nottingham\, Innovation Park\, Triumph Road\, Nottingham\, NG7 2TU\, United Kingdom
CATEGORIES:Industry events
END:VEVENT
BEGIN:VEVENT
DTSTART;VALUE=DATE:20190314
DTEND;VALUE=DATE:20190316
DTSTAMP:20260420T030312
CREATED:20190124T213430Z
LAST-MODIFIED:20190124T213430Z
UID:6084-1552521600-1552694399@www.ukspace.org
SUMMARY:Women's Satellite Data and Space-Tech Programme
DESCRIPTION:This fully-funded\, two-day programme is designed to celebrate female entrepreneurs who are using satellite derived data and space-related technology. It is supported by SETsquared and the UK Space Agency.\n\n\nFor the first time\, SETsquared and the UK Space Agency are dedicating an Entrepreneur’s Programme to celebrate the growing numbers of women in tech. Women have long been under-represented in Space and Satellite Data fields\, and this programme aims to bring enterprising women together to engage\, inspire and develop their ideas in this sector.\nThe programme focuses on the essential elements of starting a business such as getting to problem/solution fit\, identifying the market opportunity and mapping out your customers.\nIt will arm you with an executive summary\, a pitch deck\, a business model and a basic financial plan. Hands-on and interactive\, this programme is delivered in partnership with the UK Space Agency.\nFurther details and application]]>
URL:https://www.ukspace.org/event/womens-satellite-data-and-space-tech-programme/
LOCATION:Harwell Science and Innovation Campus\, Harwell\, Didcot\, Oxfordshire\, OX11 0GD
CATEGORIES:Industry events
ATTACH;FMTTYPE=:
END:VEVENT
BEGIN:VEVENT
DTSTART;TZID=Europe/London:20190305T133000
DTEND;TZID=Europe/London:20190305T160000
DTSTAMP:20260420T030312
CREATED:20190209T211505Z
LAST-MODIFIED:20190209T211505Z
UID:6167-1551792600-1551801600@www.ukspace.org
SUMMARY:The Why and How of Working with Government
DESCRIPTION:Agenda\n\n\n\n\n\n 	\n\n13:30-14:00  Registration and Networking\n\n\n 	\n\n14:00-14:15   Brief Updates from UKSpace\, TechUK\, (and Satellite Applications Catapult – tbc)\n\n\n 	\n\n14:15-14:30   Introduction to Public.io – Why work with government?\n\n\n 	\n\n14:30-15:00  Coffee and Networking\n\n\n 	\n\n15:00-15:30  “Insights from the Inside” – Katherine Courtney\, Former Senior Civil Servant and UK Space Agency CEO shares her lessons learned for SMEs interested in working with government clients\n\n\n 	\n\n15:30-16:00  Drinks (or more coffee) and networking\, sponsored by UKspace.\n\n\n\n\n\n\n\nClick here to register\n\n]]>
URL:https://www.ukspace.org/event/the-why-and-how-of-working-with-government/
LOCATION:tech UK\, 10 Saint Bride Street\, London\, EC4A 4AD\, United Kingdom
CATEGORIES:Industry events
END:VEVENT
BEGIN:VEVENT
DTSTART;TZID=Europe/London:20190227T093000
DTEND;TZID=Europe/London:20190227T130000
DTSTAMP:20260420T030312
CREATED:20161001T215028Z
LAST-MODIFIED:20161001T215028Z
UID:3939-1551259800-1551272400@www.ukspace.org
SUMMARY:SFN Elevator Pitch
DESCRIPTION:admin@satellitefinancenetwork.org.]]>
URL:https://www.ukspace.org/event/sfn-elevator-pitch-feb19/
LOCATION:tech UK\, 10 Saint Bride Street\, London\, EC4A 4AD\, United Kingdom
CATEGORIES:Industry events
END:VEVENT
BEGIN:VEVENT
DTSTART;TZID=Europe/London:20190226T090000
DTEND;TZID=Europe/London:20190226T170000
DTSTAMP:20260420T030312
CREATED:20190116T192411Z
LAST-MODIFIED:20190116T192411Z
UID:6050-1551171600-1551200400@www.ukspace.org
SUMMARY:Quantum Sensing Community of Interest meeting
DESCRIPTION:Quantum Sensing is a Defence Science and Technology Laboratory (Dstl) Project that develops and demonstrates quantum sensing technology for UK Defence and Security applications in partnership with Industry and Academia. Funded by Future Sensing and Situational Awareness Programme\, the project is aligned with the UK National Quantum Technologies Programme’s vision to create a coherent quantum technology community and demonstrate technological advancement towards deployable solutions.\nIn response to this challenge\, Dstl is hosting a Quantum Sensing Community of Interest meeting on 26 February 2019 in London. This follows a recent Quantum Sensing PhD calling conference where Dstl committed to fund a number of projects for commencement in 2019.\nThe meeting goals are to:\n\n\n\n 	\n\nBring together the navigation and quantum communities with a focus on solutions for reducing reliance on Global Navigation Satellite Systems;\n\n\n 	\n\nArticulate the military user needs and announce Dstl’s intention to fund new industry-academia partnerships to drive quantum based navigational related technologies to higher technology readiness levels;\n\n\n 	\n\nInform industry and academia of aligned funding opportunities from UK Research and Innovation (UKRI) and Defence Equipment and Support (DE&S);\n\n\n 	\n\nDiscuss future opportunities for quantum sensing and imaging more broadly;\n\n\n 	\n\nAgree on the structure of the community.\n\n\n\n\n\nMembers of industry\, academia\, government and armed forces that research or commission such systems (our Community of Interest) are highly encouraged to attend. Attendees from industry and academia will have a valuable opportunity to discuss quantum technologies with each other and be afforded access to Dstl scientists and MOD representatives. Similarly\, this will be an opportunity for the MOD to express its requirements to a supplier base first-hand. Participates may be required to sign up to an appropriate non-disclosure agreement (details to follow).\nSpaces will be limited due to venue capacity\, therefore it is advised that you register your interest in attending as soon as possible.\nFor further enquiries\, p email altnavdemos@dstl.gov.uk.]]>
URL:https://www.ukspace.org/event/quantum-sensing-community-of-interest-meeting/
CATEGORIES:Industry events
END:VEVENT
BEGIN:VEVENT
DTSTART;VALUE=DATE:20190225
DTEND;VALUE=DATE:20190301
DTSTAMP:20260420T030312
CREATED:20190220T171300Z
LAST-MODIFIED:20190220T171300Z
UID:6237-1551052800-1551398399@www.ukspace.org
SUMMARY:US West Coast Expansion workshops
DESCRIPTION:Silicon Valley Bank\, Greater Phoenix Economic Council and the Department for International Trade\, along with funders\, marketeers\, compliance specialists and commercial partners.\nThe West Coast of the US is home to 8 out of 10 of the world’s top technology businesses. Mentors will help you map out / validate a go-to-market strategy\, give you practical advice and guidance on operational matters and connect you with in-country business networks\, customers and partners in this premier global tech hub.\nSo\, if you are looking to expand into the US West Coast in a range of IoT solutions – including driverless\, AI\, space-tech\, retail-tech\, health-tech\, smart-city and wearables – register now to reserve their dedicated mentoring slot!\n\n\n\n 	\n\nSeminar London – Digital and Tech Scale-ups – 5-7pm on 25 February\n\n\n 	\n\nWorkshop London Day 1 – Fintech Scale-ups – 9am-6pm on 26 February\n\n\n 	\n\nWorkshop London Day 2 – IOT Scale-ups – 9am-6pm on 27 February\n\n\n 	\n\nWorkshop Manchester – Fintech and IOT Scale-ups – 12-6pm on 28 February\n\n\n\n\n\nFurther information and registration\n ]]>
URL:https://www.ukspace.org/event/us-west-coast-expansion-workshops/
CATEGORIES:Industry events
END:VEVENT
BEGIN:VEVENT
DTSTART;TZID=Europe/London:20190215T090000
DTEND;TZID=Europe/London:20190215T130000
DTSTAMP:20260420T030312
CREATED:20181115T135515Z
LAST-MODIFIED:20181115T135515Z
UID:5816-1550221200-1550235600@www.ukspace.org
SUMMARY:Next steps for the UK space industry – growth\, innovation and priorities post-Brexit
DESCRIPTION:Tim Just\, Head of Space\, Innovate UK\n\n\n 	\n\nCatherine Mealing-Jones\, Director\, Growth\, UK Space Agency\n\n\n\n\n\nUKspace Chair\, Graham Peters\, will also be speaking during the conference\, as part of a panel asking ‘Where next for UK Space? Skills\, investment and next steps for the UK post-Brexit’ taking place from 12.10pm-12.55pm.\nThis event will take place in central London.\nFurther details\nView the agenda\nRegister online for this event]]>
URL:https://www.ukspace.org/event/next-steps-for-uk-space-industry-post-brexit/
LOCATION:Sixty-One Whitehall\, 61 Whitehall\, London\, SW1A 2ET
CATEGORIES:Industry events
END:VEVENT
BEGIN:VEVENT
DTSTART;TZID=Europe/London:20190213T173000
DTEND;TZID=Europe/London:20190213T200000
DTSTAMP:20260420T030312
CREATED:20190205T214435Z
LAST-MODIFIED:20190205T214435Z
UID:6134-1550079000-1550088000@www.ukspace.org
SUMMARY:SSPI UK launchers event
DESCRIPTION:Martin Petto\, Head of Licensing from the Spaceflight programme at the UK Space Agency\, and Alan Webb\, Director\, CST will join keynote speaker Michael Callari\, Sales Director\, EMEA for Blue Origin.\nUpdate your knowledge on the sector of launchers! Launchers are the key to the satellite and space sectors!\nYou will hear from Blue Origin who launched their 10th flight test last week\, though uncrewed\, it carried eight science experiments for NASA\, including microgravity tests and studying Earth’s magnetic field.\nThe UK Space Agency will present the UK ambition in launch capability and developing a regulatory framework for satellites to be launched from the UK\, with spaceports emerging.\nCST will describe how the launchers brokerage market is evolving with a growing number of launchers entering the market.\n\n\nAgenda\n\n\n\n\n\n 	\n\n5:30pm – Registration from 5:30 pm\n\n\n 	\n\n6-7 pm – Presentations & Panel discussion\n\n\n 	\n\n7-8pm – Cocktail reception sponsored by Milbank\n\n\n\n\n\nRegister online for this event]]>
URL:https://www.ukspace.org/event/sspi-uk-launchers-event/
LOCATION:Milbank\, 10 Gresham St\, London\, EC2V 7JD\, United Kingdom
CATEGORIES:Industry events
END:VEVENT
BEGIN:VEVENT
DTSTART;TZID=Europe/London:20190213T100000
DTEND;TZID=Europe/London:20190213T160000
DTSTAMP:20260420T030312
CREATED:20190109T202243Z
LAST-MODIFIED:20190109T202243Z
UID:6028-1550052000-1550073600@www.ukspace.org
SUMMARY:Growing Space in Wales: Introduction to the European Space Agency Business
DESCRIPTION:https://www.eventbrite.co.uk/e/growing-space-in-wales-introduction-to-the-european-space-agency-business-applications-uk-regional-tickets-53436891180]]>
URL:https://www.ukspace.org/event/growing-space-in-wales-introduction-to-the-esa-business/
LOCATION:Principality Stadium\, Westgate Street\, Cardiff\, CF10 1NS\, United Kingdom
CATEGORIES:Industry events
END:VEVENT
BEGIN:VEVENT
DTSTART;TZID=Europe/London:20190207T130000
DTEND;TZID=Europe/London:20190207T160000
DTSTAMP:20260420T030312
CREATED:20150126T124853Z
LAST-MODIFIED:20150126T124853Z
UID:2157-1549544400-1549555200@www.ukspace.org
SUMMARY:UKspace Space Science and Exploration (SSEC) Committee Meeting
DESCRIPTION:
URL:https://www.ukspace.org/event/ukspace-ssec-committee-mtg-feb19/
CATEGORIES:UKspace committee meetings
END:VEVENT
BEGIN:VEVENT
DTSTART;TZID=Europe/London:20190205T140000
DTEND;TZID=Europe/London:20190205T163000
DTSTAMP:20260420T030312
CREATED:20150205T121702Z
LAST-MODIFIED:20150205T121702Z
UID:2206-1549375200-1549384200@www.ukspace.org
SUMMARY:UKspace EO Committee Meeting
DESCRIPTION:
URL:https://www.ukspace.org/event/eoc-mtg-feb19/
LOCATION:Satellite Applications Catapult\, Electron Building\, Harwell\, OX11 0QR
CATEGORIES:UKspace committee meetings
END:VEVENT
BEGIN:VEVENT
DTSTART;TZID=Europe/London:20190130T100000
DTEND;TZID=Europe/London:20190130T160000
DTSTAMP:20260420T030312
CREATED:20190110T174246Z
LAST-MODIFIED:20190110T174246Z
UID:6040-1548842400-1548864000@www.ukspace.org
SUMMARY:UK Space Applications Networking
DESCRIPTION:Further information\, agenda and registration\n ]]>
URL:https://www.ukspace.org/event/uk-space-applications-networking/
LOCATION:St Mary’s Church\, Wyndham Place\, York St\, London\, W1H 1PQ\, United Kingdom
CATEGORIES:Industry events
END:VEVENT
END:VCALENDAR