BEGIN:VCALENDAR
VERSION:2.0
PRODID:-//UKspace - ECPv6.15.20//NONSGML v1.0//EN
CALSCALE:GREGORIAN
METHOD:PUBLISH
X-WR-CALNAME:UKspace
X-ORIGINAL-URL:https://www.ukspace.org
X-WR-CALDESC:Events for UKspace
REFRESH-INTERVAL;VALUE=DURATION:PT1H
X-Robots-Tag:noindex
X-PUBLISHED-TTL:PT1H
BEGIN:VTIMEZONE
TZID:Europe/London
BEGIN:DAYLIGHT
TZOFFSETFROM:+0000
TZOFFSETTO:+0100
TZNAME:BST
DTSTART:20210328T010000
END:DAYLIGHT
BEGIN:STANDARD
TZOFFSETFROM:+0100
TZOFFSETTO:+0000
TZNAME:GMT
DTSTART:20211031T010000
END:STANDARD
BEGIN:DAYLIGHT
TZOFFSETFROM:+0000
TZOFFSETTO:+0100
TZNAME:BST
DTSTART:20220327T010000
END:DAYLIGHT
BEGIN:STANDARD
TZOFFSETFROM:+0100
TZOFFSETTO:+0000
TZNAME:GMT
DTSTART:20221030T010000
END:STANDARD
BEGIN:DAYLIGHT
TZOFFSETFROM:+0000
TZOFFSETTO:+0100
TZNAME:BST
DTSTART:20230326T010000
END:DAYLIGHT
BEGIN:STANDARD
TZOFFSETFROM:+0100
TZOFFSETTO:+0000
TZNAME:GMT
DTSTART:20231029T010000
END:STANDARD
BEGIN:DAYLIGHT
TZOFFSETFROM:+0000
TZOFFSETTO:+0100
TZNAME:BST
DTSTART:20240331T010000
END:DAYLIGHT
BEGIN:STANDARD
TZOFFSETFROM:+0100
TZOFFSETTO:+0000
TZNAME:GMT
DTSTART:20241027T010000
END:STANDARD
END:VTIMEZONE
BEGIN:VEVENT
DTSTART;TZID=Europe/London:20230118T150000
DTEND;TZID=Europe/London:20230118T173000
DTSTAMP:20260420T033919
CREATED:20221209T153711Z
LAST-MODIFIED:20221209T153711Z
UID:19024-1674054000-1674063000@www.ukspace.org
SUMMARY:UKspace/ADS Space Exports Group (inaugural kick-off) invite only
DESCRIPTION:
URL:https://www.ukspace.org/event/ukspace-ads-space-exports-group-inaugural-kick-off-invite-only/
LOCATION:ADS
END:VEVENT
BEGIN:VEVENT
DTSTART;TZID=Europe/London:20221215T140000
DTEND;TZID=Europe/London:20221215T160000
DTSTAMP:20260420T033919
CREATED:02020728T083157Z
LAST-MODIFIED:20220728T073640Z
UID:5394-1671112800-1671120000@www.ukspace.org
SUMMARY:UKspace Executive Meeting
DESCRIPTION:
URL:https://www.ukspace.org/event/ukspace-executive-meeting-dec-2022/
LOCATION:Online
CATEGORIES:UKspace committee meetings
END:VEVENT
BEGIN:VEVENT
DTSTART;TZID=Europe/London:20221212T133000
DTEND;TZID=Europe/London:20221212T163000
DTSTAMP:20260420T033919
CREATED:20221031T123912Z
LAST-MODIFIED:20221104T142455Z
UID:18894-1670851800-1670862600@www.ukspace.org
SUMMARY:UKspace Security & Defence Committee (SDC) Meeting
DESCRIPTION:
URL:https://www.ukspace.org/event/sdc-meeting-dec-2022/
CATEGORIES:UKspace committee meetings
END:VEVENT
BEGIN:VEVENT
DTSTART;TZID=Europe/London:20221208T140000
DTEND;TZID=Europe/London:20221208T160000
DTSTAMP:20260420T033919
CREATED:20220926T131737Z
LAST-MODIFIED:20221104T142053Z
UID:18772-1670508000-1670515200@www.ukspace.org
SUMMARY:UKspace SME Committee Meeting
DESCRIPTION:
URL:https://www.ukspace.org/event/sme-committee-meeting-aug-2022/
LOCATION:Remote
CATEGORIES:UKspace committee meetings
END:VEVENT
BEGIN:VEVENT
DTSTART;TZID=Europe/London:20221207T140000
DTEND;TZID=Europe/London:20221207T160000
DTSTAMP:20260420T033919
CREATED:20220728T073547Z
LAST-MODIFIED:20221121T124737Z
UID:4002-1670421600-1670428800@www.ukspace.org
SUMMARY:UKspace Council Meeting
DESCRIPTION:
URL:https://www.ukspace.org/event/ukspace-council-meeting-dec2022/
LOCATION:Northrup Grumman (limited capacity)
CATEGORIES:UKspace committee meetings
END:VEVENT
BEGIN:VEVENT
DTSTART;TZID=Europe/London:20221129T183000
DTEND;TZID=Europe/London:20221129T203000
DTSTAMP:20260420T033919
CREATED:20221110T114610Z
LAST-MODIFIED:20221110T114610Z
UID:18935-1669746600-1669753800@www.ukspace.org
SUMMARY:Space as a Driver of Sustainability
DESCRIPTION:UKspace Chair\, Dr Alice Bunn will be speaking at this event hosted by The D Group. \nFor further information or to register for this event\, please visit https://www.dgroup.co.uk/product/space-as-a-driver-of-sustainability
URL:https://www.ukspace.org/event/space-as-a-driver-of-sustainability/
LOCATION:The D Group\, 23 Grafton Street\, London\, W1S 4EY
CATEGORIES:Industry events
END:VEVENT
BEGIN:VEVENT
DTSTART;TZID=Europe/London:20221128T140000
DTEND;TZID=Europe/London:20221128T153000
DTSTAMP:20260420T033919
CREATED:20220930T151038Z
LAST-MODIFIED:20221121T123947Z
UID:18795-1669644000-1669649400@www.ukspace.org
SUMMARY:UKspace/ADS Public Affairs Group (PAG)
DESCRIPTION:
URL:https://www.ukspace.org/event/ukspace-political-affairs-group-pag/
END:VEVENT
BEGIN:VEVENT
DTSTART;TZID=Europe/London:20221122T090000
DTEND;TZID=Europe/London:20221123T170000
DTSTAMP:20260420T033919
CREATED:20220915T131154Z
LAST-MODIFIED:20221118T080028Z
UID:18723-1669107600-1669222800@www.ukspace.org
SUMMARY:Made for Space 2022
DESCRIPTION:Made For Space is a two-day intensive conference will explore the opportunities and possibilities for manufacturing within the global space sector. \nMade For Space brings together international experts from both the space and advanced manufacturing sectors who will show you how new manufacturing technologies and processes can help the progression of the Third Space Age\, including aspects of digital engineering\, automation and robotics\, artificial intelligence\, additive manufacturing and more. \nThis year’s highly anticipated conference is proudly hosted by the Manufacturing Technology Centre and Satellite Applications Catapult\, and will focus on key emerging technologies and their alignment to the Government’s National Space Strategy. \nUKspace Head of Policy\, Colin Baldwin will be chairing a panel session about “Building a Robust & Sustainable UK Supply Chain” on Tuesday 22 November. \nFurther information and ticket registration \nIf you’re interested in speaking at this event\, or a sponsorship package – which includes exhibiting within the venue\, being part of live demonstrations and have brand coverage throughout the event – please get in touch with the team by emailing space@the-mtc.org.
URL:https://www.ukspace.org/event/made-for-space-2022/
LOCATION:Manufacturing Technology Centre\, Pilot Way\, Ansty Business Park\, Coventry\, Warwickshire\, CV7 9JU\, United Kingdom
CATEGORIES:Industry events
END:VEVENT
BEGIN:VEVENT
DTSTART;TZID=Europe/London:20221110T140000
DTEND;TZID=Europe/London:20221110T160000
DTSTAMP:20260420T033919
CREATED:20220728T073059Z
LAST-MODIFIED:20220728T073446Z
UID:4974-1668088800-1668096000@www.ukspace.org
SUMMARY:UKspace Executive Meeting
DESCRIPTION:
URL:https://www.ukspace.org/event/ukspace-executive-meeting-nov2022/
LOCATION:Online
CATEGORIES:UKspace committee meetings
END:VEVENT
BEGIN:VEVENT
DTSTART;TZID=Europe/London:20221011T100000
DTEND;TZID=Europe/London:20221011T123000
DTSTAMP:20260420T033919
CREATED:20220926T105506Z
LAST-MODIFIED:20220926T132539Z
UID:18756-1665482400-1665491400@www.ukspace.org
SUMMARY:UKspace SDA Working Group
DESCRIPTION:
URL:https://www.ukspace.org/event/sda-working-group/
LOCATION:CGI (Fenchurch St)\, 20 Fenchurch St\, London\, EC3M 3BY\, United Kingdom
END:VEVENT
BEGIN:VEVENT
DTSTART;VALUE=DATE:20221004
DTEND;VALUE=DATE:20221011
DTSTAMP:20260420T033919
CREATED:20150402T145914Z
LAST-MODIFIED:20220201T115407Z
UID:2510-1664841600-1665446399@www.ukspace.org
SUMMARY:World Space Week 2022
DESCRIPTION:The theme for World Space Week 2022 is Space and Sustainability. Further details will be shared here in due course.​
URL:https://www.ukspace.org/event/world-space-week/
CATEGORIES:Industry events
ATTACH;FMTTYPE=image/jpeg:https://www.ukspace.org/wp-content/uploads/2015/04/World-Space-Week-logo.jpg
END:VEVENT
BEGIN:VEVENT
DTSTART;TZID=Europe/London:20221003T130000
DTEND;TZID=Europe/London:20221003T150000
DTSTAMP:20260420T033919
CREATED:20220930T153218Z
LAST-MODIFIED:20220930T153412Z
UID:18803-1664802000-1664809200@www.ukspace.org
SUMMARY:UKspace Executive Committee
DESCRIPTION:
URL:https://www.ukspace.org/event/ukspace-executive-committee/
END:VEVENT
BEGIN:VEVENT
DTSTART;TZID=Europe/London:20220930T140000
DTEND;TZID=Europe/London:20220930T153000
DTSTAMP:20260420T033919
CREATED:20220930T151329Z
LAST-MODIFIED:20220930T151342Z
UID:18800-1664546400-1664551800@www.ukspace.org
SUMMARY:UKspace Political Affairs Group (PAG)
DESCRIPTION:
URL:https://www.ukspace.org/event/ukspace-political-affairs-group-pag-3/
LOCATION:TBC\, United Kingdom
END:VEVENT
BEGIN:VEVENT
DTSTART;TZID=Europe/London:20220929T140000
DTEND;TZID=Europe/London:20220929T160000
DTSTAMP:20260420T033919
CREATED:20180111T165121Z
LAST-MODIFIED:20220728T073543Z
UID:4972-1664460000-1664467200@www.ukspace.org
SUMMARY:UKspace Executive Meeting
DESCRIPTION:
URL:https://www.ukspace.org/event/ukspace-executive-meeting-sept2022/
LOCATION:Online
CATEGORIES:UKspace committee meetings
END:VEVENT
BEGIN:VEVENT
DTSTART;TZID=Europe/London:20220926T000000
DTEND;TZID=Europe/London:20220926T000000
DTSTAMP:20260420T033919
CREATED:20220926T111718Z
LAST-MODIFIED:20221104T142247Z
UID:18770-1664150400-1664150400@www.ukspace.org
SUMMARY:UKspace SME Committee Meeting
DESCRIPTION:
URL:https://www.ukspace.org/event/sme-meeting-sept-2022/
LOCATION:TBC\, United Kingdom
CATEGORIES:Industry events
END:VEVENT
BEGIN:VEVENT
DTSTART;TZID=Europe/London:20220920T103000
DTEND;TZID=Europe/London:20220928T120000
DTSTAMP:20260420T033919
CREATED:20220912T163149Z
LAST-MODIFIED:20220912T163149Z
UID:18717-1663669800-1664366400@www.ukspace.org
SUMMARY:Space Futures Series
DESCRIPTION:The South Coast Centre of Excellence in Satellite Applications\, SkillsLabs and Further Education Colleges across the South-Central region are partnering to provide a series of three events focusing on the urgent need for space-related skills and industry-leading training solutions. \nThe Space Futures events are designed to define the regional skills challenges\, find out first-hand the concerns of industry\, and speak directly to course providers to explore the options available to deliver your future workforce. Industry perspectives will be provided by Spur Electron\, SSTL and In-Space Missions. \nFurther details\, including how to book tickets are on the following links: \n\nIsle of Wight College – 20 September\, 10:30-12:00\nFareham College – 22 September\, 10:30-12:00\nFarnborough College – 28 September\, 10:30-12:00
URL:https://www.ukspace.org/event/space-futures-series/
CATEGORIES:Industry events
END:VEVENT
BEGIN:VEVENT
DTSTART;TZID=Europe/London:20220916T110000
DTEND;TZID=Europe/London:20220916T143000
DTSTAMP:20260420T033919
CREATED:20220728T073527Z
LAST-MODIFIED:20220826T135329Z
UID:6123-1663326000-1663338600@www.ukspace.org
SUMMARY:Joint techUK/UKspace Position\, Navigation and Timing committee (PNTC) meeting
DESCRIPTION:This meeting is for members of the PNTC\, and will go ahead subject to availability of members. It will include a 30-minute lunch and networking break mid-meeting. \nRegister for this meeting \nIf you have any difficulties registering\, please email Julia Ofori-Addo.
URL:https://www.ukspace.org/event/pntc-meeting-sept-2022/
LOCATION:Online
CATEGORIES:UKspace committee meetings
END:VEVENT
BEGIN:VEVENT
DTSTART;TZID=Europe/London:20220914T103000
DTEND;TZID=Europe/London:20220914T161500
DTSTAMP:20260420T033919
CREATED:20220728T073413Z
LAST-MODIFIED:20220828T181838Z
UID:5671-1663151400-1663172100@www.ukspace.org
SUMMARY:Joint techUK/UKspace Satellite Telecommunications Committee (STC) meeting
DESCRIPTION:This hybrid event is by invitation only​​
URL:https://www.ukspace.org/event/sat-telecoms-mtg-sept-2022/
LOCATION:Adastral Park\, Martlesham Heath\, IP5 3RE\, IP5 3RE\, United Kingdom
CATEGORIES:UKspace committee meetings
END:VEVENT
BEGIN:VEVENT
DTSTART;TZID=Europe/London:20220914T100000
DTEND;TZID=Europe/London:20220914T120000
DTSTAMP:20260420T033919
CREATED:20220728T073524Z
LAST-MODIFIED:20220728T074552Z
UID:14342-1663149600-1663156800@www.ukspace.org
SUMMARY:Space Growth Partnership (SGP) Board meeting
DESCRIPTION:This meeting is by invitation only
URL:https://www.ukspace.org/event/sgp-board-mtg-sept-2022/
LOCATION:Online
CATEGORIES:UKspace committee meetings
END:VEVENT
BEGIN:VEVENT
DTSTART;VALUE=DATE:20220907
DTEND;VALUE=DATE:20220909
DTSTAMP:20260420T033919
CREATED:20220112T142310Z
LAST-MODIFIED:20220201T114357Z
UID:18086-1662508800-1662681599@www.ukspace.org
SUMMARY:Space-Comm Expo 2022
DESCRIPTION:Following the inaugural Space-Comm Expo in 2021\, of which UKspace was a sponsor\, the event returns in 2022 showcasing the manufacturing supply chain for products\, services and solutions supplying commercial enterprises and developments in space. \nTaking place at the Farnborough International Exhibition and Conference Centre\, Space-Comm Expo will bring the entire sector together for two days of business and networking\, providing opportunities to connect with industry peers in person. \nThe two-day event will include: \n\nExhibition and concurrent conference sessions\nLeading industry and government speakers delivering insight and thought leadership\nMeet the Buyer speed networking\, bringing together suppliers and key decisions makers\nMeet the next generation of innovators and disruptors in the Start Up Zone\nStart Up Zone featuring new companies and fast-growing SMEs\nFace-to-face roundtables\, 1-2-1 meetings\, specialist educational content\n\nFor further information\, please visit https://www.space-comm.co.uk.
URL:https://www.ukspace.org/event/space-comm-expo-2022/
LOCATION:Farnborough International Exhibition and Conference Centre\, Etps Rd\, Farnborough\, GU14 6FD\, United Kingdom
CATEGORIES:Industry events
END:VEVENT
BEGIN:VEVENT
DTSTART;TZID=Europe/London:20220906T140000
DTEND;TZID=Europe/London:20220906T160000
DTSTAMP:20260420T033919
CREATED:20220728T073532Z
LAST-MODIFIED:20220728T073914Z
UID:4001-1662472800-1662480000@www.ukspace.org
SUMMARY:UKspace Council Meeting
DESCRIPTION:
URL:https://www.ukspace.org/event/ukspace-council-meeting-sept2022/
LOCATION:Online
CATEGORIES:UKspace committee meetings
END:VEVENT
BEGIN:VEVENT
DTSTART;TZID=Europe/London:20220906T090000
DTEND;TZID=Europe/London:20220907T163000
DTSTAMP:20260420T033919
CREATED:20220905T054043Z
LAST-MODIFIED:20220905T054043Z
UID:18693-1662454800-1662568200@www.ukspace.org
SUMMARY:Access Space Alliance Hybrid Conference 2022
DESCRIPTION:Access Space Alliance hybrid conference 2022 will provide delegates with the latest information on the New Space\, and network with other companies and leading personalities. \nPanel sessions will provide a 360-degree view of the current business in the satellite and space sector. \nANACOM (the National Communications Authority of Portugal) is supporting the conference by providing availability of the conference centre at the Museum of Telecommunication in Portugal\, with sponsorship provided by D-Orbit. \nRegister to attend this event in person or online
URL:https://www.ukspace.org/event/access-space-alliance-hybrid-conference-2022/
LOCATION:Museum of Communication\, R. do Instituto Industrial 16\, 1200-225\, Lisbon\, Portugal
END:VEVENT
BEGIN:VEVENT
DTSTART;VALUE=DATE:20220905
DTEND;VALUE=DATE:20220910
DTSTAMP:20260420T033919
CREATED:20220412T152757Z
LAST-MODIFIED:20220412T152757Z
UID:18328-1662336000-1662767999@www.ukspace.org
SUMMARY:National Earth Observation Day Conference
DESCRIPTION:The UK National Earth Observation Conference 2022 – hosted by the Remote Sensing & Photogrammetry Society\, the National Centre for Earth Observation\, the Centre for Earth Observation Instrumentation and the Satellite Applications Catapult – will take place over three days in w/c 5 September. \nThe conference is likely to generate a very significant gathering of the UK EO community across research\, government and industry. \nFurther details of the specific dates and venue will be published here in due course.​
URL:https://www.ukspace.org/event/national-earth-observation-day-conference/
CATEGORIES:Industry events
END:VEVENT
BEGIN:VEVENT
DTSTART;TZID=Europe/London:20220818T140000
DTEND;TZID=Europe/London:20220818T160000
DTSTAMP:20260420T033919
CREATED:20220728T073044Z
LAST-MODIFIED:20220728T073532Z
UID:4008-1660831200-1660838400@www.ukspace.org
SUMMARY:UKspace Executive Meeting
DESCRIPTION:
URL:https://www.ukspace.org/event/ukspace-executive-meeting-aug22/
LOCATION:Online
CATEGORIES:UKspace committee meetings
END:VEVENT
BEGIN:VEVENT
DTSTART;TZID=Europe/London:20220816T100000
DTEND;TZID=Europe/London:20220816T120000
DTSTAMP:20260420T033919
CREATED:20220728T065946Z
LAST-MODIFIED:20220804T163023Z
UID:14412-1660644000-1660651200@www.ukspace.org
SUMMARY:Space Growth Partnership (SGP) Board meeting
DESCRIPTION:This meeting is by invitation only
URL:https://www.ukspace.org/event/sgp-board-mtg-aug-2022/
LOCATION:Online
CATEGORIES:UKspace committee meetings
END:VEVENT
BEGIN:VEVENT
DTSTART;TZID=Europe/London:20220728T090000
DTEND;TZID=Europe/London:20220728T180000
DTSTAMP:20260420T033919
CREATED:20220608T181344Z
LAST-MODIFIED:20220608T181537Z
UID:18414-1658998800-1659031200@www.ukspace.org
SUMMARY:Westcott Space Cluster Expo 2022
DESCRIPTION:The Westcott Space Cluster is hosting an expo on 28 July featuring exhibitors and speakers from across the space sector and beyond\, including Space Propulsion and Manufacturing\, Satellite Connectivity for Healthcare\, Agriculture\, Intelligent Transport and Drones. \nThere will be a variety of key speakers from across the space sector\, who will explore the incredible opportunities at Westcott\, plus regional representatives offering a keen vision for space innovation within Buckinghamshire and beyond. \nDelegates have the chance to be a part of insightful panel discussions\, from commercial space and small business growth\, to technology development across industry. The end of the day will finish with a dedicated Expo tour of some of the incredible facilities at Westcott from Westcott Space Cluster companies and partners. During this time\, the exhibition space will be in full swing\, allowing attendees to network and immerse themselves in space sector products and services based at Westcott and from further afield. \nExhibitors include: NAMMO\, European Astrotech\, Protolaunch\, AVS – Added Value Solutions\, URA Thrusters\, Flarebright\, Benchmark Space and many more. \nExhibitor opportunities are still available; if you’d like to sign up as an exhibitor\, please email: william.birch@sa.catapult.org.uk \nTo secure your free ticket to attend\, sign up via: https://www.eventbrite.co.uk/e/westcott-space-cluster-expo-tickets-320687664437
URL:https://www.ukspace.org/event/westcott-space-cluster-expo/
LOCATION:Westcott Venture Park\, Aylesbury\, HP18 0XB\, United Kingdom
CATEGORIES:Industry events
END:VEVENT
BEGIN:VEVENT
DTSTART;VALUE=DATE:20220718
DTEND;VALUE=DATE:20220723
DTSTAMP:20260420T033919
CREATED:20211129T234053Z
LAST-MODIFIED:20211229T171146Z
UID:18013-1658102400-1658534399@www.ukspace.org
SUMMARY:Farnborough International Airshow 2022
DESCRIPTION:During the Farnborough International Airshow 2022 (18-22 July 2022)\, the increasing commercialisation of space\, the development of new international spaceport infrastructure and the ever-moving boundaries of what is possible in the sector will all be explored. \nThe Space Zone will once again showcase the UK’s rapidly expanding space sector\, with a bigger exhibition space in a prime new location providing an unrivalled immersive experience and platform on the international stage. \nFurther details of UKspace’s involvement and opportunities for UKspace members to be involved\, will be published here in due course.
URL:https://www.ukspace.org/event/farnborough-international-airshow-2022/
LOCATION:Farnborough Airport\, Farnborough\, GU14 6XA\, United Kingdom
CATEGORIES:Industry events
END:VEVENT
BEGIN:VEVENT
DTSTART;VALUE=DATE:20220706
DTEND;VALUE=DATE:20220708
DTSTAMP:20260420T033919
CREATED:20211213T145501Z
LAST-MODIFIED:20220207T143807Z
UID:18044-1657065600-1657238399@www.ukspace.org
SUMMARY:Made for Space Conference 2022
DESCRIPTION:Made for Space is a two-day intensive conference examining the opportunities and possibilities for manufacturing within the global space sector\, organised by the Satellite Applications Catapult and the Manufacturing Technology Centre. \nWith sessions focusing on key topics including component manufacturing and materials for space\, supply chain development\, back to the future\, and in-space/on-orbit operations\, Made for Space will bring together international experts from both the space and advanced manufacturing sectors. \nRegistration and further information about Made for Space
URL:https://www.ukspace.org/event/made-for-space-conference-2022/
LOCATION:Manufacturing Technology Centre\, Pilot Way\, Ansty Business Park\, Coventry\, Warwickshire\, CV7 9JU\, United Kingdom
CATEGORIES:Industry events
END:VEVENT
BEGIN:VEVENT
DTSTART;TZID=Europe/London:20220621T110000
DTEND;TZID=Europe/London:20220621T123000
DTSTAMP:20260420T033919
CREATED:20220527T142454Z
LAST-MODIFIED:20220527T142454Z
UID:18384-1655809200-1655814600@www.ukspace.org
SUMMARY:Harwell Women in Tech: Coping mechanisms to build confidence
DESCRIPTION:This event is specifically for people working on the Harwell Campus. Following on from the first session ‘Confidence in the Workplace’\, this event will consist of three coaching seminars\, each covering variations of themes around developing coping mechanisms or strategies around confidence in the workplace\, resulting in knowing and valuing your worth in the workplace. \nAgenda: \n\n11:00 Arrivals and welcome\n11:15 Coaching sessions [3 x break out groups]\n12:00 Regroup for networking drinks and wrap-up\n12:30 Event close\n\nWhen registering\, please indicated which of these coaching sessions you’d prefer to join: \n\nActivate your team: An exploration of inclusion and team dynamics – Dr Jan Peters MBE\, MD and Founder of Katalytik (LinkedIn)\nConfidence v. Arrogance: Knowing your value and standing in your power at work and in life – Beth Wolny\, CEO and Executive Coach at Beth Wolny Coaching (LinkedIn)\nConfidence to match your competence: Ensure that your skills and talent are recognised in the workplace and a lack of confidence isn’t holding you back – Susan Charlesworth\, Founder of Oxford Human Performance (LinkedIn)\n\nRegister for this event
URL:https://www.ukspace.org/event/harwell-women-in-tech-coping-mechanisms-to-build-confidence/
LOCATION:Advance Training Centre\, MRC Harwell\, United Kingdom
CATEGORIES:Industry events
END:VEVENT
BEGIN:VEVENT
DTSTART;VALUE=DATE:20220616
DTEND;VALUE=DATE:20220618
DTSTAMP:20260420T033919
CREATED:20220201T121508Z
LAST-MODIFIED:20220201T121508Z
UID:18158-1655337600-1655510399@www.ukspace.org
SUMMARY:Milsatcoms Conference 2022
DESCRIPTION:With the military satellite communications (Milsatcom) market growing steadily in recent years\, driven by changes in technologies and developments in the international space market\, Milsatcoms 2022 will address the latest developments shaping the Milsatcom industry\, including policy updates\, technology trends\, infrastructure advancement and existing environment threats. \nThe conference will be an excellent opportunity to network with government representatives\, leading satellite providers and commercial stakeholders.
URL:https://www.ukspace.org/event/milsatcoms-conference-2022/
LOCATION:IET London\, 2 Savoy Place\, London \, WC2R 0BL\, United Kingdom
CATEGORIES:Industry events
END:VEVENT
END:VCALENDAR