BEGIN:VCALENDAR
VERSION:2.0
PRODID:-//UKspace - ECPv6.15.20//NONSGML v1.0//EN
CALSCALE:GREGORIAN
METHOD:PUBLISH
X-ORIGINAL-URL:https://www.ukspace.org
X-WR-CALDESC:Events for UKspace
REFRESH-INTERVAL;VALUE=DURATION:PT1H
X-Robots-Tag:noindex
X-PUBLISHED-TTL:PT1H
BEGIN:VTIMEZONE
TZID:Europe/London
BEGIN:DAYLIGHT
TZOFFSETFROM:+0000
TZOFFSETTO:+0100
TZNAME:BST
DTSTART:20180325T010000
END:DAYLIGHT
BEGIN:STANDARD
TZOFFSETFROM:+0100
TZOFFSETTO:+0000
TZNAME:GMT
DTSTART:20181028T010000
END:STANDARD
BEGIN:DAYLIGHT
TZOFFSETFROM:+0000
TZOFFSETTO:+0100
TZNAME:BST
DTSTART:20190331T010000
END:DAYLIGHT
BEGIN:STANDARD
TZOFFSETFROM:+0100
TZOFFSETTO:+0000
TZNAME:GMT
DTSTART:20191027T010000
END:STANDARD
BEGIN:DAYLIGHT
TZOFFSETFROM:+0000
TZOFFSETTO:+0100
TZNAME:BST
DTSTART:20200329T010000
END:DAYLIGHT
BEGIN:STANDARD
TZOFFSETFROM:+0100
TZOFFSETTO:+0000
TZNAME:GMT
DTSTART:20201025T010000
END:STANDARD
BEGIN:DAYLIGHT
TZOFFSETFROM:+0000
TZOFFSETTO:+0100
TZNAME:BST
DTSTART:20210328T010000
END:DAYLIGHT
BEGIN:STANDARD
TZOFFSETFROM:+0100
TZOFFSETTO:+0000
TZNAME:GMT
DTSTART:20211031T010000
END:STANDARD
BEGIN:DAYLIGHT
TZOFFSETFROM:+0000
TZOFFSETTO:+0100
TZNAME:BST
DTSTART:20220327T010000
END:DAYLIGHT
BEGIN:STANDARD
TZOFFSETFROM:+0100
TZOFFSETTO:+0000
TZNAME:GMT
DTSTART:20221030T010000
END:STANDARD
END:VTIMEZONE
BEGIN:VEVENT
DTSTART;TZID=Europe/London:20210218T100000
DTEND;TZID=Europe/London:20210218T120000
DTSTAMP:20260419T182456
CREATED:20210129T105610Z
LAST-MODIFIED:20210129T105610Z
UID:17068-1613642400-1613649600@www.ukspace.org
SUMMARY:UKspace Media Advisory Group meeting
DESCRIPTION:Attendance at this meeting is by invitation only.
URL:https://www.ukspace.org/event/ukspace-media-advisory-group-mtg-feb21/
CATEGORIES:UKspace committee meetings
END:VEVENT
BEGIN:VEVENT
DTSTART;TZID=Europe/London:20210211T100000
DTEND;TZID=Europe/London:20210211T120000
DTSTAMP:20260419T182456
CREATED:20210129T105458Z
LAST-MODIFIED:20210129T105642Z
UID:17066-1613037600-1613044800@www.ukspace.org
SUMMARY:UKspace SME Committee Meeting
DESCRIPTION:Attendance at this meeting is by invitation only.
URL:https://www.ukspace.org/event/ukspace-sme-committee-mtg-feb21/
CATEGORIES:UKspace committee meetings
END:VEVENT
BEGIN:VEVENT
DTSTART;TZID=Europe/London:20210204T140000
DTEND;TZID=Europe/London:20210204T163000
DTSTAMP:20260419T182456
CREATED:20190424T121615Z
LAST-MODIFIED:20210111T182755Z
UID:6566-1612447200-1612456200@www.ukspace.org
SUMMARY:Joint techUK/UKspace Position\, Navigation and Timing committee (PNTC) meeting
DESCRIPTION:Registration for this meeting is by invitation only. If you have any issues with registration\, please contact techUK’s Programme Assistant Julia Ofori-Addo.
URL:https://www.ukspace.org/event/pntc-meeting-feb2021/
LOCATION:Online
CATEGORIES:UKspace committee meetings
END:VEVENT
BEGIN:VEVENT
DTSTART;TZID=Europe/London:20210122T111500
DTEND;TZID=Europe/London:20210122T133000
DTSTAMP:20260419T182456
CREATED:20180111T163646Z
LAST-MODIFIED:20201207T130648Z
UID:4963-1611314100-1611322200@www.ukspace.org
SUMMARY:UKspace Council Meeting
DESCRIPTION:
URL:https://www.ukspace.org/event/ukspace-council-meeting-jan2021/
LOCATION:Online
CATEGORIES:UKspace committee meetings
END:VEVENT
BEGIN:VEVENT
DTSTART;TZID=Europe/London:20201201T130000
DTEND;TZID=Europe/London:20201201T153000
DTSTAMP:20260419T182456
CREATED:20200519T170401Z
LAST-MODIFIED:20200519T170401Z
UID:15965-1606827600-1606836600@www.ukspace.org
SUMMARY:Political Affairs Group (PAG) meeting
DESCRIPTION:This meeting is invitation only
URL:https://www.ukspace.org/event/pag-mtg-dec20/
CATEGORIES:UKspace committee meetings
END:VEVENT
BEGIN:VEVENT
DTSTART;TZID=Europe/London:20201111T140000
DTEND;TZID=Europe/London:20201111T160000
DTSTAMP:20260419T182456
CREATED:20200608T124013Z
LAST-MODIFIED:20210204T165217Z
UID:16057-1605103200-1605110400@www.ukspace.org
SUMMARY:Trade & Exports Group (TEG) Committee Meeting
DESCRIPTION:
URL:https://www.ukspace.org/event/teg-mtg-nov20/
CATEGORIES:UKspace committee meetings
END:VEVENT
BEGIN:VEVENT
DTSTART;TZID=Europe/London:20201103T133000
DTEND;TZID=Europe/London:20201103T160000
DTSTAMP:20260419T182456
CREATED:20191212T200732Z
LAST-MODIFIED:20191212T200732Z
UID:15150-1604410200-1604419200@www.ukspace.org
SUMMARY:UKspace EO Committee Meeting
DESCRIPTION:
URL:https://www.ukspace.org/event/eoc-mtg-nov20/
CATEGORIES:UKspace committee meetings
END:VEVENT
BEGIN:VEVENT
DTSTART;TZID=Europe/London:20201027T130000
DTEND;TZID=Europe/London:20201027T153000
DTSTAMP:20260419T182456
CREATED:20200519T170312Z
LAST-MODIFIED:20200519T170312Z
UID:15963-1603803600-1603812600@www.ukspace.org
SUMMARY:Political Affairs Group (PAG) meeting
DESCRIPTION:This meeting is invitation only
URL:https://www.ukspace.org/event/pag-mtg-oct20/
CATEGORIES:UKspace committee meetings
END:VEVENT
BEGIN:VEVENT
DTSTART;TZID=Europe/London:20200929T130000
DTEND;TZID=Europe/London:20200929T153000
DTSTAMP:20260419T182456
CREATED:20200519T170226Z
LAST-MODIFIED:20200519T170226Z
UID:15960-1601384400-1601393400@www.ukspace.org
SUMMARY:Political Affairs Group (PAG) meeting
DESCRIPTION:This meeting is invitation only
URL:https://www.ukspace.org/event/pag-mtg-sept20/
LOCATION:Online
CATEGORIES:UKspace committee meetings
END:VEVENT
BEGIN:VEVENT
DTSTART;TZID=Europe/London:20200909T140000
DTEND;TZID=Europe/London:20200909T160000
DTSTAMP:20260419T182456
CREATED:20200608T123835Z
LAST-MODIFIED:20210204T165219Z
UID:16055-1599660000-1599667200@www.ukspace.org
SUMMARY:Trade & Exports Group (TEG) Committee Meeting
DESCRIPTION:
URL:https://www.ukspace.org/event/teg-mtg-sept20/
CATEGORIES:UKspace committee meetings
END:VEVENT
BEGIN:VEVENT
DTSTART;TZID=Europe/London:20200908T140000
DTEND;TZID=Europe/London:20200908T170000
DTSTAMP:20260419T182456
CREATED:20200421T101339Z
LAST-MODIFIED:20200519T170705Z
UID:15701-1599573600-1599584400@www.ukspace.org
SUMMARY:IOS Working Group meeting
DESCRIPTION:This is an invite-only meeting for members of the In-Orbit Servicing Working Group. If you could like to join the group\, please email Lizzie Kerr or Penelope Utting.
URL:https://www.ukspace.org/event/ios-working-group-meeting_sept2020/
LOCATION:Online
CATEGORIES:UKspace committee meetings
END:VEVENT
BEGIN:VEVENT
DTSTART;TZID=Europe/London:20200901T133000
DTEND;TZID=Europe/London:20200901T160000
DTSTAMP:20260419T182456
CREATED:20191212T200940Z
LAST-MODIFIED:20191212T200940Z
UID:15149-1598967000-1598976000@www.ukspace.org
SUMMARY:UKspace EO Committee Meeting
DESCRIPTION:
URL:https://www.ukspace.org/event/eoc-mtg-sept20/
CATEGORIES:UKspace committee meetings
END:VEVENT
BEGIN:VEVENT
DTSTART;TZID=Europe/London:20200825T130000
DTEND;TZID=Europe/London:20200825T153000
DTSTAMP:20260419T182456
CREATED:20190607T125101Z
LAST-MODIFIED:20200519T170048Z
UID:6855-1598360400-1598369400@www.ukspace.org
SUMMARY:Political Affairs Group (PAG) meeting
DESCRIPTION:This meeting is invitation only
URL:https://www.ukspace.org/event/pag-mtg-aug20/
LOCATION:Online
CATEGORIES:UKspace committee meetings
END:VEVENT
BEGIN:VEVENT
DTSTART;TZID=Europe/London:20200728T130000
DTEND;TZID=Europe/London:20200728T130000
DTSTAMP:20260419T182456
CREATED:20190607T125034Z
LAST-MODIFIED:20200519T165954Z
UID:14340-1595941200-1595941200@www.ukspace.org
SUMMARY:Political Affairs Group (PAG) meeting
DESCRIPTION:This meeting is invitation only​
URL:https://www.ukspace.org/event/pag-mtg-july20/
CATEGORIES:UKspace committee meetings
END:VEVENT
BEGIN:VEVENT
DTSTART;TZID=Europe/London:20200709T140000
DTEND;TZID=Europe/London:20200709T160000
DTSTAMP:20260419T182456
CREATED:20190607T130429Z
LAST-MODIFIED:20200610T161744Z
UID:6876-1594303200-1594310400@www.ukspace.org
SUMMARY:Space Growth Partnership (SGP) Trade & Exports meeting
DESCRIPTION:This meeting is by invitation only. Confirmation of the meeting details will be provided in due course.​
URL:https://www.ukspace.org/event/sgp-trade-exports-mtg-july2020/
CATEGORIES:UKspace committee meetings
END:VEVENT
BEGIN:VEVENT
DTSTART;TZID=Europe/London:20200630T130000
DTEND;TZID=Europe/London:20200630T153000
DTSTAMP:20260419T182456
CREATED:20200519T165900Z
LAST-MODIFIED:20200519T165900Z
UID:15953-1593522000-1593531000@www.ukspace.org
SUMMARY:Political Affairs Group (PAG) meeting
DESCRIPTION:This meeting is invitation-only
URL:https://www.ukspace.org/event/pag-mtg-30june20/
LOCATION:Online
CATEGORIES:UKspace committee meetings
END:VEVENT
BEGIN:VEVENT
DTSTART;TZID=Europe/London:20200611T140000
DTEND;TZID=Europe/London:20200611T153000
DTSTAMP:20260419T182456
CREATED:20200422T063520Z
LAST-MODIFIED:20200603T162537Z
UID:15727-1591884000-1591889400@www.ukspace.org
SUMMARY:COVID-19 Webinar for UK space sector
DESCRIPTION:This webinar is specifically for members of the UK space sector to provide updates on how space companies and academia are being impacted by the pandemic\, as well as the latest advice\, information and resources available. You will also have the opportunity to engage directly with senior leadership from government and industry and share how COVID-19 is impacting your organisation. \nThis is part of a wider collaborative effort between UKspace\, the UK Space Agency and the Department for International Trade in helping the UK space sector respond to the COVID-19 pandemic. The webinars have been developed in partnership with the Satellite Applications Catapult\, European Space Agency\, ADS and the Satellite Finance Network. \nThe theme of this webinar will be satellite-enabled solutions to help deal with the COVID outbreak. \nFuture webinars take place fortnightly \nRegister for the webinar​​\nClick here to view the recorded 1-hour webinar from 30 April
URL:https://www.ukspace.org/event/covid-19-webinar_28may2020/
LOCATION:Online Webinar
CATEGORIES:Industry events,UKspace committee meetings
END:VEVENT
BEGIN:VEVENT
DTSTART;TZID=Europe/London:20200602T130000
DTEND;TZID=Europe/London:20200602T153000
DTSTAMP:20260419T182456
CREATED:20190607T125011Z
LAST-MODIFIED:20200519T170416Z
UID:14339-1591102800-1591111800@www.ukspace.org
SUMMARY:Political Affairs Group (PAG) meeting
DESCRIPTION:This meeting is invitation only
URL:https://www.ukspace.org/event/pag-mtg-2june20/
LOCATION:Online
CATEGORIES:UKspace committee meetings
END:VEVENT
BEGIN:VEVENT
DTSTART;TZID=Europe/London:20200519T140000
DTEND;TZID=Europe/London:20200519T160000
DTSTAMP:20260419T182456
CREATED:20180903T131558Z
LAST-MODIFIED:20200427T113415Z
UID:3276-1589896800-1589904000@www.ukspace.org
SUMMARY:UKspace Security and Defence Committee Meeting
DESCRIPTION:
URL:https://www.ukspace.org/event/sdc-meeting-may2020/
CATEGORIES:UKspace committee meetings
END:VEVENT
BEGIN:VEVENT
DTSTART;TZID=Europe/London:20200423T140000
DTEND;TZID=Europe/London:20200423T153000
DTSTAMP:20260419T182456
CREATED:20200422T063524Z
LAST-MODIFIED:20200422T063524Z
UID:15724-1587650400-1587655800@www.ukspace.org
SUMMARY:COVID-19 Webinar for UK space sector
DESCRIPTION:This webinar is specifically for members of the UK space sector to provide updates on how space companies and academia are being impacted by the pandemic\, as well as the latest advice\, information and resources available. You will also have the opportunity to engage directly with senior leadership from government and industry and share how COVID-19 is impacting your organisation. \nThis is part of a wider collaborative effort between UKspace\, the UK Space Agency and the Department for International Trade in helping the UK space sector respond to the COVID-19 pandemic. The webinars have been developed in partnership with the Satellite Applications Catapult\, European Space Agency\, ADS and the Satellite Finance Network. \nFollowing this initial webinar\, there will be another on 30 April\, with subsequent webinars then taking place fortnightly from 14 May. \nAgenda\n\n1400 – 1405 Introduction (Chair: Catherine Mealing-Jones\, Growth Director\, UK Space Agency)\n1405 – 1430 COVID-19: Sector Awareness and Response Update (UK Space Agency)\n1430 – 1530 Q&A session\n\nRegister for the webinar​
URL:https://www.ukspace.org/event/covid-19-webinar_23apr2020/
LOCATION:Online Webinar
CATEGORIES:Industry events,UKspace committee meetings
END:VEVENT
BEGIN:VEVENT
DTSTART;TZID=Europe/London:20200414T140000
DTEND;TZID=Europe/London:20200414T170000
DTSTAMP:20260419T182456
CREATED:20181112T144830Z
LAST-MODIFIED:20181112T144830Z
UID:5788-1586872800-1586883600@www.ukspace.org
SUMMARY:Joint techUK/UKspace Position\, Navigation and Timing committee (PNTC) meeting
DESCRIPTION:Chair: Richard Bowden\, QinetiQ.\n\n\n 	\n\nDeputy Chair: Mark Dumville\, Nottingham Scientific\n\n\n\n\n\nAgenda TBC\nThis meeting is by invitation only]]>
URL:https://www.ukspace.org/event/pntc-meeting-april2020/
LOCATION:tech UK\, 10 Saint Bride Street\, London\, EC4A 4AD\, United Kingdom
CATEGORIES:UKspace committee meetings
END:VEVENT
BEGIN:VEVENT
DTSTART;TZID=Europe/London:20200324T140000
DTEND;TZID=Europe/London:20200324T160000
DTSTAMP:20260419T182456
CREATED:20191212T200812Z
LAST-MODIFIED:20200121T162857Z
UID:15147-1585058400-1585065600@www.ukspace.org
SUMMARY:UKspace EO Committee Meeting
DESCRIPTION:
URL:https://www.ukspace.org/event/eoc-mtg-march20/
LOCATION:Satellite Applications Catapult\, Electron Building\, Fermi Avenue\, Harwell Campus\, OX11 0QR\, United Kingdom
CATEGORIES:UKspace committee meetings
END:VEVENT
BEGIN:VEVENT
DTSTART;TZID=Europe/London:20200225T140000
DTEND;TZID=Europe/London:20200225T163000
DTSTAMP:20260419T182456
CREATED:20171128T085744Z
LAST-MODIFIED:20200115T232354Z
UID:4830-1582639200-1582648200@www.ukspace.org
SUMMARY:Joint techUK/UKspace Position\, Navigation and Timing committee (PNTC) meeting
DESCRIPTION:Agenda TBC \nA sandwich lunch will be available from 13:00. \nPlease register to attend here \nParking facilities \nSince the meeting is taking place during term time\, parking spaces will be scarce. Therefore\, if coming by car\, please park in the visitor car parks on Jubilee Campus. Change will be required for the pay and display. Visitor parking charges apply in the general visitor car parks and tickets must be displayed at all times: \n\nUp to 30 minutes (free)\n2 hours (£5.00)\n4 hours (£7.00)\nAll day (£10.00)\n\nAlternatively\, if attendees could provide their car licence plate details to paul.bhatia@grace.ac.uk well in advance\, he will try to get parking passes posted to you. This would enable you to park anywhere EXCEPT the visitor car parks.
URL:https://www.ukspace.org/event/pntc-meeting-feb2020/
LOCATION:Ingenuity Centre\, Jubilee Campus\, University of Nottingham\, Triumph Rd\,\, Nottingham\, NG7 2TU\, United Kingdom
CATEGORIES:UKspace committee meetings
END:VEVENT
BEGIN:VEVENT
DTSTART;TZID=Europe/London:20200204T103000
DTEND;TZID=Europe/London:20200204T130000
DTSTAMP:20260419T182456
CREATED:20160406T070952Z
LAST-MODIFIED:20191212T201350Z
UID:3501-1580812200-1580821200@www.ukspace.org
SUMMARY:UKspace Security and Defence Committee Meeting
DESCRIPTION:
URL:https://www.ukspace.org/event/sdc-meeting-feb20/
LOCATION:Inmarsat\, 99 City Road\, London\, EC1Y 1AX\, United Kingdom
CATEGORIES:UKspace committee meetings
END:VEVENT
BEGIN:VEVENT
DTSTART;TZID=Europe/London:20191202T180000
DTEND;TZID=Europe/London:20191202T200000
DTSTAMP:20260419T182456
CREATED:20190722T203041Z
LAST-MODIFIED:20190722T203041Z
UID:14640-1575309600-1575316800@www.ukspace.org
SUMMARY:2019 UKspace Christmas Cocktail Reception
DESCRIPTION:This event is by invitation only
URL:https://www.ukspace.org/event/2019-ukspace-christmas-cocktail-reception/
LOCATION:Lancaster House\, Stable Yard\, St. James's\, London\, SW1A 1BB
CATEGORIES:UKspace committee meetings
END:VEVENT
BEGIN:VEVENT
DTSTART;TZID=Europe/London:20191202T130000
DTEND;TZID=Europe/London:20191202T160000
DTSTAMP:20260419T182456
CREATED:20181002T202620Z
LAST-MODIFIED:20190911T204958Z
UID:5673-1575291600-1575302400@www.ukspace.org
SUMMARY:Joint techUK/UKspace Satellite Telecommunications Committee meeting
DESCRIPTION:This event is by invitation only​. \nRegistration will be essential to gain admittance to this meeting\, plus photo ID will be required by the building’s Reception staff. \nFurther details: https://www.techuk.org/events/meeting/item/15823-joint-techuk-ukspace-satellite-telecommunications-committee
URL:https://www.ukspace.org/event/joint-techuk-ukspace-stc-meeting-dec19/
LOCATION:CGI (Fenchurch St)\, 20 Fenchurch St\, London\, EC3M 3BY\, United Kingdom
CATEGORIES:UKspace committee meetings
END:VEVENT
BEGIN:VEVENT
DTSTART;TZID=Europe/London:20191111T140000
DTEND;TZID=Europe/London:20191111T160000
DTSTAMP:20260419T182456
CREATED:20190607T130349Z
LAST-MODIFIED:20200610T161836Z
UID:14343-1573480800-1573488000@www.ukspace.org
SUMMARY:Space Growth Partnership (SGP) Trade & Exports meeting
DESCRIPTION:This meeting is by invitation only. Confirmation of the meeting details will be provided in due course.​
URL:https://www.ukspace.org/event/sgp-trade-exports-mtg-nov20/
CATEGORIES:UKspace committee meetings
END:VEVENT
BEGIN:VEVENT
DTSTART;TZID=Europe/London:20191106T110000
DTEND;TZID=Europe/London:20191106T123000
DTSTAMP:20260419T182456
CREATED:20170907T114131Z
LAST-MODIFIED:20170907T114131Z
UID:4632-1573038000-1573043400@www.ukspace.org
SUMMARY:UKspace Space Science and Exploration (SSEC) Committee Meeting
DESCRIPTION:This meeting is by invitation only]]>
URL:https://www.ukspace.org/event/ukspace-ssec-mtg-nov19/
LOCATION:1 Victoria Street\, Westminster\, London\, SW1E 5ND\, United Kingdom
CATEGORIES:UKspace committee meetings
END:VEVENT
BEGIN:VEVENT
DTSTART;TZID=Europe/London:20191105T140000
DTEND;TZID=Europe/London:20191105T163000
DTSTAMP:20260419T182456
CREATED:20180530T163930Z
LAST-MODIFIED:20180530T163930Z
UID:5276-1572962400-1572971400@www.ukspace.org
SUMMARY:UKspace EO Committee Meeting
DESCRIPTION:This meeting is by invitation only]]>
URL:https://www.ukspace.org/event/ukspace-eo-committee-meeting-nov19/
LOCATION:Satellite Applications Catapult\, Electron Building\, Harwell\, OX11 0QR
CATEGORIES:UKspace committee meetings
END:VEVENT
BEGIN:VEVENT
DTSTART;TZID=Europe/London:20190917T100000
DTEND;TZID=Europe/London:20190917T123000
DTSTAMP:20260419T182456
CREATED:20170704T195309Z
LAST-MODIFIED:20190716T193435Z
UID:4549-1568714400-1568723400@www.ukspace.org
SUMMARY:Security and Defence Committee meeting
DESCRIPTION:This meeting is by invitation only\, open to members of the UKspace Security and Defence Committee​.
URL:https://www.ukspace.org/event/security-and-defence-committee-meeting-sept19/
LOCATION:ADS Group\, Salamanca Square\, 9 Albert Embankment\, London\, SE1 7SP\, United Kingdom
CATEGORIES:UKspace committee meetings
END:VEVENT
END:VCALENDAR