BEGIN:VCALENDAR
VERSION:2.0
PRODID:-//UKspace - ECPv6.15.20//NONSGML v1.0//EN
CALSCALE:GREGORIAN
METHOD:PUBLISH
X-ORIGINAL-URL:https://www.ukspace.org
X-WR-CALDESC:Events for UKspace
REFRESH-INTERVAL;VALUE=DURATION:PT1H
X-Robots-Tag:noindex
X-PUBLISHED-TTL:PT1H
BEGIN:VTIMEZONE
TZID:Europe/London
BEGIN:DAYLIGHT
TZOFFSETFROM:+0000
TZOFFSETTO:+0100
TZNAME:BST
DTSTART:20250330T010000
END:DAYLIGHT
BEGIN:STANDARD
TZOFFSETFROM:+0100
TZOFFSETTO:+0000
TZNAME:GMT
DTSTART:20251026T010000
END:STANDARD
BEGIN:DAYLIGHT
TZOFFSETFROM:+0000
TZOFFSETTO:+0100
TZNAME:BST
DTSTART:20260329T010000
END:DAYLIGHT
BEGIN:STANDARD
TZOFFSETFROM:+0100
TZOFFSETTO:+0000
TZNAME:GMT
DTSTART:20261025T010000
END:STANDARD
BEGIN:DAYLIGHT
TZOFFSETFROM:+0000
TZOFFSETTO:+0100
TZNAME:BST
DTSTART:20270328T010000
END:DAYLIGHT
BEGIN:STANDARD
TZOFFSETFROM:+0100
TZOFFSETTO:+0000
TZNAME:GMT
DTSTART:20271031T010000
END:STANDARD
END:VTIMEZONE
BEGIN:VEVENT
DTSTART;VALUE=DATE:20260303
DTEND;VALUE=DATE:20260305
DTSTAMP:20260418T225723
CREATED:20260126T115023Z
LAST-MODIFIED:20260126T115023Z
UID:21620-1772496000-1772668799@www.ukspace.org
SUMMARY:Amsterdam Space Symposium 2026
DESCRIPTION:The Amsterdam Space Symposium is a high-level event bringing together leaders from government\, industry and adjacent sectors across Europe\, the US and Asia. It is a unique platform for UK organisations to engage and connect with international partners\, explore new opportunities and showcase national capacity. \nThe 2026 edition will comprise over 30 sessions on two core themes: \n\nSpace for Security & Defence – strengthening cooperation in an evolving geopolitical and technical landscape\, especially as space has taken a main role in the UK’s Industrial Strategy and Defence Industrial Strategy\nSpace for Climate – leveraging space to drive environmental leadership\, resilience and sustainable growth\, such as the monitoring of green algae in Loch Naegh in Northern Ireland
URL:https://www.ukspace.org/event/amsterdam-space-symposium-2026/
LOCATION:Beurs van Berlage Conference Centre\, Damrak 243\, 1012 ZJ\, Amsterdam\, Netherlands
CATEGORIES:Industry events
END:VEVENT
END:VCALENDAR