BEGIN:VCALENDAR
VERSION:2.0
PRODID:-//UKspace - ECPv6.15.20//NONSGML v1.0//EN
CALSCALE:GREGORIAN
METHOD:PUBLISH
X-WR-CALNAME:UKspace
X-ORIGINAL-URL:https://www.ukspace.org
X-WR-CALDESC:Events for UKspace
REFRESH-INTERVAL;VALUE=DURATION:PT1H
X-Robots-Tag:noindex
X-PUBLISHED-TTL:PT1H
BEGIN:VTIMEZONE
TZID:Europe/London
BEGIN:DAYLIGHT
TZOFFSETFROM:+0000
TZOFFSETTO:+0100
TZNAME:BST
DTSTART:20240331T010000
END:DAYLIGHT
BEGIN:STANDARD
TZOFFSETFROM:+0100
TZOFFSETTO:+0000
TZNAME:GMT
DTSTART:20241027T010000
END:STANDARD
BEGIN:DAYLIGHT
TZOFFSETFROM:+0000
TZOFFSETTO:+0100
TZNAME:BST
DTSTART:20250330T010000
END:DAYLIGHT
BEGIN:STANDARD
TZOFFSETFROM:+0100
TZOFFSETTO:+0000
TZNAME:GMT
DTSTART:20251026T010000
END:STANDARD
BEGIN:DAYLIGHT
TZOFFSETFROM:+0000
TZOFFSETTO:+0100
TZNAME:BST
DTSTART:20260329T010000
END:DAYLIGHT
BEGIN:STANDARD
TZOFFSETFROM:+0100
TZOFFSETTO:+0000
TZNAME:GMT
DTSTART:20261025T010000
END:STANDARD
END:VTIMEZONE
BEGIN:VEVENT
DTSTART;VALUE=DATE:20251027
DTEND;VALUE=DATE:20251030
DTSTAMP:20260419T223352
CREATED:20250619T111606Z
LAST-MODIFIED:20251011T191554Z
UID:21262-1761523200-1761782399@www.ukspace.org
SUMMARY:Reinventing Space Conference 2025
DESCRIPTION:Organised by the British Interplanetary Society\, the Reinventing Space Conference brings together agencies\, professionals\, manufacturers\, satellite operators\, entrepreneurs and researchers to navigate the evolving landscape of international space collaboration and competition. \nThis year’s conference theme is ‘The Rapidly Changing Context of Global Space’ and will tackle the critical implications of recent developments affecting UK-European space cooperation\, launch services\, sovereignty and commercial opportunities. \nExpert panels and keynote speakers include Prof. Carole Mundell (ESA Director of Science)\, Prof. David Parker (former ESA Director and visiting Prof. at Southampton University)\, Dr Alice Bunn (President\, UKspace)\, Prof Andreas Hein (Institute for Interstellar Studies\, i4is) and Prof Bernard Foing (President\, Space Renaissance International). \nThere will also be expert panels hosted by Helen Sharman (first British astronaut)\, David Todd (Space Insurance)\, Alan Cross (Space Clusters) and a Southampton University session. All this alongside sponsors Northern Ireland Space\, and representatives from leading UK space companies including diamond sponsor: Skyrora. \nOn each of the three days\, we’ll be focusing on essential insights: \n\nDay 1 (27 Oct): Global Space – Navigating Critical Challenges\nDay 2 (28 Oct): The Next Decade – Solutions\, Pathways\, and Emerging Opportunities\nDay 3 (29 Oct): From Imagination to Reality – Pioneering the Future.\n\nThere is also a Student Careers Day parallel session on day 3. \nOn Tuesday 28 October\, there will be the Gala Dinner and Sir Arthur Clarke Awards\, celebrating outstanding achievements across UK space activities. This prestigious ceremony recognises the individuals and teams shaping the future of British space endeavour. \nFlexible attendance options allow you to join for individual days or the full conference. \nExhibition and sponsorship opportunities are still available to showcase your organisation to key decision-makers across the sector. For further enquiries\, please email RISpace@bis-space.com.
URL:https://www.ukspace.org/event/reinventing-space-conference-2025/
LOCATION:Royal Aeronautical Society\, 4 Hamilton Place\, London \, W1J 7BQ\, United Kingdom
CATEGORIES:Industry events
END:VEVENT
END:VCALENDAR