BEGIN:VCALENDAR
VERSION:2.0
PRODID:-//UKspace - ECPv6.15.20//NONSGML v1.0//EN
CALSCALE:GREGORIAN
METHOD:PUBLISH
X-WR-CALNAME:UKspace
X-ORIGINAL-URL:https://www.ukspace.org
X-WR-CALDESC:Events for UKspace
REFRESH-INTERVAL;VALUE=DURATION:PT1H
X-Robots-Tag:noindex
X-PUBLISHED-TTL:PT1H
BEGIN:VTIMEZONE
TZID:Europe/London
BEGIN:DAYLIGHT
TZOFFSETFROM:+0000
TZOFFSETTO:+0100
TZNAME:BST
DTSTART:20240331T010000
END:DAYLIGHT
BEGIN:STANDARD
TZOFFSETFROM:+0100
TZOFFSETTO:+0000
TZNAME:GMT
DTSTART:20241027T010000
END:STANDARD
BEGIN:DAYLIGHT
TZOFFSETFROM:+0000
TZOFFSETTO:+0100
TZNAME:BST
DTSTART:20250330T010000
END:DAYLIGHT
BEGIN:STANDARD
TZOFFSETFROM:+0100
TZOFFSETTO:+0000
TZNAME:GMT
DTSTART:20251026T010000
END:STANDARD
BEGIN:DAYLIGHT
TZOFFSETFROM:+0000
TZOFFSETTO:+0100
TZNAME:BST
DTSTART:20260329T010000
END:DAYLIGHT
BEGIN:STANDARD
TZOFFSETFROM:+0100
TZOFFSETTO:+0000
TZNAME:GMT
DTSTART:20261025T010000
END:STANDARD
END:VTIMEZONE
BEGIN:VEVENT
DTSTART;VALUE=DATE:20251022
DTEND;VALUE=DATE:20251024
DTSTAMP:20260420T025854
CREATED:20220412T152415Z
LAST-MODIFIED:20250501T210657Z
UID:18323-1761091200-1761263999@www.ukspace.org
SUMMARY:7th Summit for Space Sustainability
DESCRIPTION:The 7th Summit for Space Sustainability is a high-level\, multi-day event focused on developing solutions for space sustainability\, hosted by the Secure World Foundation\, CNES and the Government of France\, to be held on 22-23 October 2025 at the Centre de Conférences Pierre Mendès France in Paris. \nThe summit will be a unique gathering of global stakeholders from government\, industry and civil society\, and will feature keynotes\, interactive sessions\, panels and networking designed to highlight opportunities and challenges for developing solutions for space sustainability. \nFurther information
URL:https://www.ukspace.org/event/7th-summit-for-space-sustainability/
LOCATION:Centre de Conférences Pierre Mendès France\, Paris\, France
CATEGORIES:Industry events
END:VEVENT
END:VCALENDAR