BEGIN:VCALENDAR
VERSION:2.0
PRODID:-//UKspace - ECPv6.15.20//NONSGML v1.0//EN
CALSCALE:GREGORIAN
METHOD:PUBLISH
X-ORIGINAL-URL:https://www.ukspace.org
X-WR-CALDESC:Events for UKspace
REFRESH-INTERVAL;VALUE=DURATION:PT1H
X-Robots-Tag:noindex
X-PUBLISHED-TTL:PT1H
BEGIN:VTIMEZONE
TZID:Europe/London
BEGIN:DAYLIGHT
TZOFFSETFROM:+0000
TZOFFSETTO:+0100
TZNAME:BST
DTSTART:20230326T010000
END:DAYLIGHT
BEGIN:STANDARD
TZOFFSETFROM:+0100
TZOFFSETTO:+0000
TZNAME:GMT
DTSTART:20231029T010000
END:STANDARD
BEGIN:DAYLIGHT
TZOFFSETFROM:+0000
TZOFFSETTO:+0100
TZNAME:BST
DTSTART:20240331T010000
END:DAYLIGHT
BEGIN:STANDARD
TZOFFSETFROM:+0100
TZOFFSETTO:+0000
TZNAME:GMT
DTSTART:20241027T010000
END:STANDARD
BEGIN:DAYLIGHT
TZOFFSETFROM:+0000
TZOFFSETTO:+0100
TZNAME:BST
DTSTART:20250330T010000
END:DAYLIGHT
BEGIN:STANDARD
TZOFFSETFROM:+0100
TZOFFSETTO:+0000
TZNAME:GMT
DTSTART:20251026T010000
END:STANDARD
END:VTIMEZONE
BEGIN:VEVENT
DTSTART;VALUE=DATE:20241119
DTEND;VALUE=DATE:20241122
DTSTAMP:20260422T083916
CREATED:20240116T123904Z
LAST-MODIFIED:20240116T124258Z
UID:20324-1731974400-1732233599@www.ukspace.org
SUMMARY:Space-Tech Expo Europe 2024
DESCRIPTION:From start-ups to big industry players\, Space-Tech Expo Europe 2024 will welcome more than 700 companies\, where you can meet them face-to-face\, to discover their game-changing products and technologies. \nUKRI-Science and Technology Facilities Council (booth R33) will be among the exhibitors.
URL:https://www.ukspace.org/event/space-tech-expo-europe-2024/
LOCATION:Messe Bremen\, WFB Wirtschaftsförderung Bremen GmbH\, Findorffstrasse 101\, Bremen\, 28215\, Germany
CATEGORIES:Industry events
END:VEVENT
END:VCALENDAR