BEGIN:VCALENDAR
VERSION:2.0
PRODID:-//UKspace - ECPv6.15.20//NONSGML v1.0//EN
CALSCALE:GREGORIAN
METHOD:PUBLISH
X-ORIGINAL-URL:https://www.ukspace.org
X-WR-CALDESC:Events for UKspace
REFRESH-INTERVAL;VALUE=DURATION:PT1H
X-Robots-Tag:noindex
X-PUBLISHED-TTL:PT1H
BEGIN:VTIMEZONE
TZID:Europe/London
BEGIN:DAYLIGHT
TZOFFSETFROM:+0000
TZOFFSETTO:+0100
TZNAME:BST
DTSTART:20230326T010000
END:DAYLIGHT
BEGIN:STANDARD
TZOFFSETFROM:+0100
TZOFFSETTO:+0000
TZNAME:GMT
DTSTART:20231029T010000
END:STANDARD
BEGIN:DAYLIGHT
TZOFFSETFROM:+0000
TZOFFSETTO:+0100
TZNAME:BST
DTSTART:20240331T010000
END:DAYLIGHT
BEGIN:STANDARD
TZOFFSETFROM:+0100
TZOFFSETTO:+0000
TZNAME:GMT
DTSTART:20241027T010000
END:STANDARD
BEGIN:DAYLIGHT
TZOFFSETFROM:+0000
TZOFFSETTO:+0100
TZNAME:BST
DTSTART:20250330T010000
END:DAYLIGHT
BEGIN:STANDARD
TZOFFSETFROM:+0100
TZOFFSETTO:+0000
TZNAME:GMT
DTSTART:20251026T010000
END:STANDARD
END:VTIMEZONE
BEGIN:VEVENT
DTSTART;VALUE=DATE:20241111
DTEND;VALUE=DATE:20241114
DTSTAMP:20260422T084014
CREATED:20240725T110049Z
LAST-MODIFIED:20241108T054908Z
UID:18514-1731283200-1731542399@www.ukspace.org
SUMMARY:Reinventing Space Conference 2024
DESCRIPTION:The Reinventing Space conference and exhibition brings together industry\, agency\, government\, financiers\, academia and end-users. The theme of this year’s conference is ‘The Commercial Revolution\, and will feature a keynote address on the first day by UKspace President\, Dr Alice Bunn OBE. \nThe event\, organised by the British Interplanetary Society\, will focus on the key benefits and emerging issues presented by the rapidly growing number of space missions and activities driven by increasing commercial activity. As utilisation of Near-Earth Space accelerates\, resulting from man commercial satellites being launched\, the conference will focus on the likely implications of this revolution over the next two decades; not only for the satellite manufacturers and operators\, but also for the legal\, logistical\, educational and space surveillance communities supporting them. \nThis year’s conference runs across three consecutive days\, with the option to attend any or all three days. Details of the programme will be published here soon. \nOn the evening of 12 November\, RISpace will be hosting the Sir Arthur Clarke Awards and gala dinner. \nFurther information about the Reinventing Space Conference 2024
URL:https://www.ukspace.org/event/reinventing-space-conference-2024/
LOCATION:Royal Aeronautical Society\, 4 Hamilton Place\, London \, W1J 7BQ\, United Kingdom
CATEGORIES:Industry events
ORGANIZER;CN="British Interplanetary Society":MAILTO:rispace@bis-space.com
END:VEVENT
END:VCALENDAR